Workbook
Name ASIGNACIÓN: #REF!
Name CLASE: #REF!
Name ETAPA: #REF!
Name FUENTE: #REF!
Name IMPACTO: #REF!
Name PROBABILIDAD: #REF!
Name TIPO: #REF!

Sheet MATRIZ DE RIESGO
B2: logo | F2: suempresa | AB2: Código | AC2: x
F4: MATRIZ DE IDENTIFICACIÓN, VALORACIÓN Y ASIGNACIÓN DE RIESGOS | AB4: Versión 2 | AC4: Pág. 1 de 1
F5: Procesos de Compra | AB5: Fecha | AC5: x
B7: NÚMERO DE PROCESO DE REFERENCIA | G7: PRO CONSUMIDOR-DAF-CM-2026-0007 | AB7: ANEXO NÚM.
AB8: FECHA
B9: Elaborado de conformidad con la metodología propuesta por la Dirección General de Contratacciones Públicas en la "Guía para la Gestión Integral de Riesgos en el Proceso de Contratación".
B10: MATRIZ DE GESTIÓN DE RIESGO
B11: IDENTIFICACIÓN DEL RIESGO | I11: VALORACIÓN DEL RIESGO | Z11: EVALUACIÓN DEL CONTROL
B12: N° | C12: CLASE | D12: FUENTE | E12: ETAPAS | F12: TIPO | G12: FACTORES DE RIESGO (DESCRIPCIÓN QUÉ PUEDE PASAR Y, COMO PUEDE OCURRIR) | H12: EFECTOS OBSERVABLES | I12: PROBABILIDAD | K12: IMPACTO | M12: VALORACIÓN DEL RIESGO | N12: CATEGORÍA | O12: ¿A QUIEN SE LE ASIGNA? | P12: TRATAMIENTO/CONTROLES A SER IMPLEMENTADOS | Q12: IMPACTO DESPUES DE TRATAMIENTO | W12: ¿AFECTA LA EJECUCIÓN DEL PROCESO DE CONTRATACIÓN? | X12: ¿AFECTA LA EJECUCIÓN DEL CONTRATO? | Y12: PERSONA RESPONSABLE DE IMPLEMENTAR EL TRATAMIENTO | Z12: ETAPA/ FECHA ESTIMADA EN QUE SE INICIA EL TRATAMIENTO | AA12: ETAPA/FECHA ESTIMADA QUE SE COMPLETA EL TRATAMIENTO | AB12: MONITOREO Y REVISIÓN
Q13: PROBABILIDAD | S13: IMPACTO | U13: VALORACIÓN DEL RIESGO | V13: CATEGORÍA | AB13: ¿CÓMO SE REALIZA EL MONITOREO? | AC13: ¿PERIODICIDAD?
B14: 1 | C14: General | D14: Interno | E14: Etapa precontractual | F14: Riesgos Operacionales | G14: Desvinculación del Plan Anual de Compras con el Plan Estratégico y Plan Operativo. | H14: Ineficiencia en el uso de los fondos públicos. | I14: 2 | J14: =IFERROR(INDEX('TABLAS DE VALORACIÓN'!$E$54:$E$58,MATCH(I14,'TABLAS DE VALORACIÓN'!$F$54:$F$58,0)),"") -> Improbable (puede ocurrir ocasionalmente) | K14: 3 | L14: =IFERROR(INDEX('TABLAS DE VALORACIÓN'!$G$52:$K$52,1,MATCH(K14,'TABLAS DE VALORACIÓN'!$G$53:$K$53,0)),"") -> Moderado | M14: =IFERROR(I14*K14,"") -> 6 | N14: =IFERROR(INDEX('TABLAS DE VALORACIÓN'!$F$54:$F$58,MATCH(J14,'TABLAS DE VALORACIÓN'!$E$54:$E$58,0))*INDEX('TABLAS DE VALORACIÓN'!$G$53:$K$53,1,MATCH(L14,'TABLAS DE VALORACIÓN'!$G$52:$K$52,0)),"") -> 6 | O14: Planificación / UOCC / DAF | P14: Alinear PAC con PEI/POA y presupuesto; revisión y aprobación por Comité de Compras; seguimiento trimestral a desviaciones. | Q14: 1 | R14: =IFERROR(INDEX('TABLAS DE VALORACIÓN'!$E$54:$E$58,MATCH(Q14,'TABLAS DE VALORACIÓN'!$F$54:$F$58,0)),"") -> Raro (puede ocurrir excepcionalmente) | S14: 2 | T14: =IFERROR(INDEX('TABLAS DE VALORACIÓN'!$G$52:$K$52,1,MATCH(S14,'TABLAS DE VALORACIÓN'!$G$53:$K$53,0)),"") -> Menor | U14: =IFERROR(Q14*S14,"") -> 2 | V14: =IFERROR(INDEX('TABLAS DE VALORACIÓN'!$F$54:$F$58,MATCH(R14,'TABLAS DE VALORACIÓN'!$E$54:$E$58,0))*INDEX('TABLAS DE VALORACIÓN'!$G$53:$K$53,1,MATCH(T14,'TABLAS DE VALORACIÓN'!$G$52:$K$52,0)),"") -> 2 | W14: Si | X14: Si | Y14: Planificación y DAF | Z14: Abril 2026 | AA14: 46203 | AB14: Revisión del PAC vs. POA/presupuesto y actas de aprobación. | AC14: Trimestral
B15: 2 | C15: General | D15: Interno | E15: Etapa precontractual | F15: Riesgos Operacionales | G15: Ausencia de capacidad técnica para la construcción de criterios de evaluación y adjudicación. | H15: Criterios de evaluación subjetivos o inexistentes. | I15: 2 | J15: =IFERROR(INDEX('TABLAS DE VALORACIÓN'!$E$54:$E$58,MATCH(I15,'TABLAS DE VALORACIÓN'!$F$54:$F$58,0)),"") -> Improbable (puede ocurrir ocasionalmente) | K15: 3 | L15: =IFERROR(INDEX('TABLAS DE VALORACIÓN'!$G$52:$K$52,1,MATCH(K15,'TABLAS DE VALORACIÓN'!$G$53:$K$53,0)),"") -> Moderado | M15: =IFERROR(I15*K15,"") -> 6 | N15: =IFERROR(INDEX('TABLAS DE VALORACIÓN'!$F$54:$F$58,MATCH(J15,'TABLAS DE VALORACIÓN'!$E$54:$E$58,0))*INDEX('TABLAS DE VALORACIÓN'!$G$53:$K$53,1,MATCH(L15,'TABLAS DE VALORACIÓN'!$G$52:$K$52,0)),"") -> 6 | O15: UOCC / área requirente / peritos | P15: Designar peritos idóneos; validar fichas técnicas/TDR; capacitar en evaluación objetiva y dejar evidencia de revisión legal y técnica. | Q15: 1 | R15: =IFERROR(INDEX('TABLAS DE VALORACIÓN'!$E$54:$E$58,MATCH(Q15,'TABLAS DE VALORACIÓN'!$F$54:$F$58,0)),"") -> Raro (puede ocurrir excepcionalmente) | S15: 3 | T15: =IFERROR(INDEX('TABLAS DE VALORACIÓN'!$G$52:$K$52,1,MATCH(S15,'TABLAS DE VALORACIÓN'!$G$53:$K$53,0)),"") -> Moderado | U15: =IFERROR(Q15*S15,"") -> 3 | V15: =IFERROR(INDEX('TABLAS DE VALORACIÓN'!$F$54:$F$58,MATCH(R15,'TABLAS DE VALORACIÓN'!$E$54:$E$58,0))*INDEX('TABLAS DE VALORACIÓN'!$G$53:$K$53,1,MATCH(T15,'TABLAS DE VALORACIÓN'!$G$52:$K$52,0)),"") -> 3 | W15: Si | X15: Si | Y15: UOCC y Jurídica | Z15: Abril 2026 | AA15: 46203 | AB15: Revisión de expedientes, TDR y matrices de evaluación. | AC15: Trimestral
B16: 3 | C16: General | D16: Externo | E16: Etapa precontractual | F16: Riesgos Operacionales | G16: Problemas técnicos del portal transaccional. | H16: Retraso en el proceso de Compras | I16: 1 | J16: =IFERROR(INDEX('TABLAS DE VALORACIÓN'!$E$54:$E$58,MATCH(I16,'TABLAS DE VALORACIÓN'!$F$54:$F$58,0)),"") -> Raro (puede ocurrir excepcionalmente) | K16: 3 | L16: =IFERROR(INDEX('TABLAS DE VALORACIÓN'!$G$52:$K$52,1,MATCH(K16,'TABLAS DE VALORACIÓN'!$G$53:$K$53,0)),"") -> Moderado | M16: =IFERROR(I16*K16,"") -> 3 | N16: =IFERROR(INDEX('TABLAS DE VALORACIÓN'!$F$54:$F$58,MATCH(J16,'TABLAS DE VALORACIÓN'!$E$54:$E$58,0))*INDEX('TABLAS DE VALORACIÓN'!$G$53:$K$53,1,MATCH(L16,'TABLAS DE VALORACIÓN'!$G$52:$K$52,0)),"") -> 3 | O16: UOCC / TI / DGCP | P16: Plan de contingencia ante fallas del portal, evidencia de incidentes, uso de canales oficiales alternos y control de plazos. | Q16: 1 | R16: =IFERROR(INDEX('TABLAS DE VALORACIÓN'!$E$54:$E$58,MATCH(Q16,'TABLAS DE VALORACIÓN'!$F$54:$F$58,0)),"") -> Raro (puede ocurrir excepcionalmente) | S16: 3 | T16: =IFERROR(INDEX('TABLAS DE VALORACIÓN'!$G$52:$K$52,1,MATCH(S16,'TABLAS DE VALORACIÓN'!$G$53:$K$53,0)),"") -> Moderado | U16: =IFERROR(Q16*S16,"") -> 3 | V16: =IFERROR(INDEX('TABLAS DE VALORACIÓN'!$F$54:$F$58,MATCH(R16,'TABLAS DE VALORACIÓN'!$E$54:$E$58,0))*INDEX('TABLAS DE VALORACIÓN'!$G$53:$K$53,1,MATCH(T16,'TABLAS DE VALORACIÓN'!$G$52:$K$52,0)),"") -> 3 | W16: Si | X16: Si | Y16: UOCC y TI | Z16: Abril 2026 | AA16: 46203 | AB16: Bitácora de incidentes y tiempos muertos del portal. | AC16: Mensual
B17: 4 | C17: General | D17: Interno | E17: Etapa precontractual | F17: Riesgos Operacionales | G17: Delegación del presidente del comité de compras y el área legal. | H17: Cancelación de acto de apertura por ausencia de notario. | I17: 2 | J17: =IFERROR(INDEX('TABLAS DE VALORACIÓN'!$E$54:$E$58,MATCH(I17,'TABLAS DE VALORACIÓN'!$F$54:$F$58,0)),"") -> Improbable (puede ocurrir ocasionalmente) | K17: 3 | L17: =IFERROR(INDEX('TABLAS DE VALORACIÓN'!$G$52:$K$52,1,MATCH(K17,'TABLAS DE VALORACIÓN'!$G$53:$K$53,0)),"") -> Moderado | M17: =IFERROR(I17*K17,"") -> 6 | N17: =IFERROR(INDEX('TABLAS DE VALORACIÓN'!$F$54:$F$58,MATCH(J17,'TABLAS DE VALORACIÓN'!$E$54:$E$58,0))*INDEX('TABLAS DE VALORACIÓN'!$G$53:$K$53,1,MATCH(L17,'TABLAS DE VALORACIÓN'!$G$52:$K$52,0)),"") -> 6 | O17: UOCC / CCC / Jurídica | P17: Programar convocatorias y actos con suplencia definida; confirmar disponibilidad de notario y miembros del comité; actas de contingencia. | Q17: 1 | R17: =IFERROR(INDEX('TABLAS DE VALORACIÓN'!$E$54:$E$58,MATCH(Q17,'TABLAS DE VALORACIÓN'!$F$54:$F$58,0)),"") -> Raro (puede ocurrir excepcionalmente) | S17: 3 | T17: =IFERROR(INDEX('TABLAS DE VALORACIÓN'!$G$52:$K$52,1,MATCH(S17,'TABLAS DE VALORACIÓN'!$G$53:$K$53,0)),"") -> Moderado | U17: =IFERROR(Q17*S17,"") -> 3 | V17: =IFERROR(INDEX('TABLAS DE VALORACIÓN'!$F$54:$F$58,MATCH(R17,'TABLAS DE VALORACIÓN'!$E$54:$E$58,0))*INDEX('TABLAS DE VALORACIÓN'!$G$53:$K$53,1,MATCH(T17,'TABLAS DE VALORACIÓN'!$G$52:$K$52,0)),"") -> 3 | W17: Si | X17: Si | Y17: UOCC | Z17: Abril 2026 | AA17: 46203 | AB17: Verificación de agenda, convocatorias y actas. | AC17: Mensual
B18: 5 | C18: General | D18: Interno | E18: Etapa precontractual | F18: Riesgos Operacionales | G18: Evaluación subjetiva y no conforme al pliego. | H18: Aplicación de criterios no contenidos en el pliego. | I18: 2 | J18: =IFERROR(INDEX('TABLAS DE VALORACIÓN'!$E$54:$E$58,MATCH(I18,'TABLAS DE VALORACIÓN'!$F$54:$F$58,0)),"") -> Improbable (puede ocurrir ocasionalmente) | K18: 3 | L18: =IFERROR(INDEX('TABLAS DE VALORACIÓN'!$G$52:$K$52,1,MATCH(K18,'TABLAS DE VALORACIÓN'!$G$53:$K$53,0)),"") -> Moderado | M18: =IFERROR(I18*K18,"") -> 6 | N18: =IFERROR(INDEX('TABLAS DE VALORACIÓN'!$F$54:$F$58,MATCH(J18,'TABLAS DE VALORACIÓN'!$E$54:$E$58,0))*INDEX('TABLAS DE VALORACIÓN'!$G$53:$K$53,1,MATCH(L18,'TABLAS DE VALORACIÓN'!$G$52:$K$52,0)),"") -> 6 | O18: Peritos / UOCC / CCC | P18: Aplicar matriz de evaluación aprobada en pliego; doble revisión técnica-jurídica; declaración de ausencia de conflicto de interés. | Q18: 1 | R18: =IFERROR(INDEX('TABLAS DE VALORACIÓN'!$E$54:$E$58,MATCH(Q18,'TABLAS DE VALORACIÓN'!$F$54:$F$58,0)),"") -> Raro (puede ocurrir excepcionalmente) | S18: 3 | T18: =IFERROR(INDEX('TABLAS DE VALORACIÓN'!$G$52:$K$52,1,MATCH(S18,'TABLAS DE VALORACIÓN'!$G$53:$K$53,0)),"") -> Moderado | U18: =IFERROR(Q18*S18,"") -> 3 | V18: =IFERROR(INDEX('TABLAS DE VALORACIÓN'!$F$54:$F$58,MATCH(R18,'TABLAS DE VALORACIÓN'!$E$54:$E$58,0))*INDEX('TABLAS DE VALORACIÓN'!$G$53:$K$53,1,MATCH(T18,'TABLAS DE VALORACIÓN'!$G$52:$K$52,0)),"") -> 3 | W18: Si | X18: Si | Y18: UOCC y Función de Cumplimiento | Z18: Abril 2026 | AA18: 46203 | AB18: Auditoría de expedientes y revisión de informes periciales. | AC18: Trimestral
B19: 6 | C19: General | D19: Interno | E19: Etapa precontractual | F19: Riesgos Operacionales | G19: Dilación en la elaboración y aprobación del acto adminsitrativo de adjudicación por parte del comité de compras. | H19: Retrasos en el procesos de compras | I19: 2 | J19: =IFERROR(INDEX('TABLAS DE VALORACIÓN'!$E$54:$E$58,MATCH(I19,'TABLAS DE VALORACIÓN'!$F$54:$F$58,0)),"") -> Improbable (puede ocurrir ocasionalmente) | K19: 3 | L19: =IFERROR(INDEX('TABLAS DE VALORACIÓN'!$G$52:$K$52,1,MATCH(K19,'TABLAS DE VALORACIÓN'!$G$53:$K$53,0)),"") -> Moderado | M19: =IFERROR(I19*K19,"") -> 6 | N19: =IFERROR(INDEX('TABLAS DE VALORACIÓN'!$F$54:$F$58,MATCH(J19,'TABLAS DE VALORACIÓN'!$E$54:$E$58,0))*INDEX('TABLAS DE VALORACIÓN'!$G$53:$K$53,1,MATCH(L19,'TABLAS DE VALORACIÓN'!$G$52:$K$52,0)),"") -> 6 | O19: CCC / UOCC | P19: Calendario de hitos del proceso; alertas de vencimiento; seguimiento a actas y adjudicación por parte de la presidencia del comité. | Q19: 1 | R19: =IFERROR(INDEX('TABLAS DE VALORACIÓN'!$E$54:$E$58,MATCH(Q19,'TABLAS DE VALORACIÓN'!$F$54:$F$58,0)),"") -> Raro (puede ocurrir excepcionalmente) | S19: 3 | T19: =IFERROR(INDEX('TABLAS DE VALORACIÓN'!$G$52:$K$52,1,MATCH(S19,'TABLAS DE VALORACIÓN'!$G$53:$K$53,0)),"") -> Moderado | U19: =IFERROR(Q19*S19,"") -> 3 | V19: =IFERROR(INDEX('TABLAS DE VALORACIÓN'!$F$54:$F$58,MATCH(R19,'TABLAS DE VALORACIÓN'!$E$54:$E$58,0))*INDEX('TABLAS DE VALORACIÓN'!$G$53:$K$53,1,MATCH(T19,'TABLAS DE VALORACIÓN'!$G$52:$K$52,0)),"") -> 3 | W19: Si | X19: Si | Y19: CCC | Z19: Abril 2026 | AA19: 46203 | AB19: Tablero de tiempos del proceso y revisión de actas. | AC19: Mensual
B20: 7 | C20: General | D20: Interno | E20: Etapa contractual | F20: Riesgos Operacionales | G20: Retrasos en la elaboración del contrato | H20: Retrasos en el procesos de compras | I20: 2 | J20: =IFERROR(INDEX('TABLAS DE VALORACIÓN'!$E$54:$E$58,MATCH(I20,'TABLAS DE VALORACIÓN'!$F$54:$F$58,0)),"") -> Improbable (puede ocurrir ocasionalmente) | K20: 3 | L20: =IFERROR(INDEX('TABLAS DE VALORACIÓN'!$G$52:$K$52,1,MATCH(K20,'TABLAS DE VALORACIÓN'!$G$53:$K$53,0)),"") -> Moderado | M20: =IFERROR(I20*K20,"") -> 6 | N20: =IFERROR(INDEX('TABLAS DE VALORACIÓN'!$F$54:$F$58,MATCH(J20,'TABLAS DE VALORACIÓN'!$E$54:$E$58,0))*INDEX('TABLAS DE VALORACIÓN'!$G$53:$K$53,1,MATCH(L20,'TABLAS DE VALORACIÓN'!$G$52:$K$52,0)),"") -> 6 | O20: Jurídica / UOCC | P20: Modelo estandarizado de contrato, lista de chequeo documental y plazo máximo para formalización posterior a adjudicación. | Q20: 1 | R20: =IFERROR(INDEX('TABLAS DE VALORACIÓN'!$E$54:$E$58,MATCH(Q20,'TABLAS DE VALORACIÓN'!$F$54:$F$58,0)),"") -> Raro (puede ocurrir excepcionalmente) | S20: 3 | T20: =IFERROR(INDEX('TABLAS DE VALORACIÓN'!$G$52:$K$52,1,MATCH(S20,'TABLAS DE VALORACIÓN'!$G$53:$K$53,0)),"") -> Moderado | U20: =IFERROR(Q20*S20,"") -> 3 | V20: =IFERROR(INDEX('TABLAS DE VALORACIÓN'!$F$54:$F$58,MATCH(R20,'TABLAS DE VALORACIÓN'!$E$54:$E$58,0))*INDEX('TABLAS DE VALORACIÓN'!$G$53:$K$53,1,MATCH(T20,'TABLAS DE VALORACIÓN'!$G$52:$K$52,0)),"") -> 3 | W20: Si | X20: Si | Y20: Jurídica | Z20: Abril 2026 | AA20: 46203 | AB20: Control de tiempos entre adjudicación y firma de contrato. | AC20: Mensual
B21: 8 | C21: General | D21: Interno | E21: Etapa contractual | F21: Riesgos Operacionales | G21: Ausencia de herramientas de medición de satisfacción de los términos de entrega. | H21: Entrega incompleta en términos de cantidades de los bienes adjudicados. | I21: 2 | J21: =IFERROR(INDEX('TABLAS DE VALORACIÓN'!$E$54:$E$58,MATCH(I21,'TABLAS DE VALORACIÓN'!$F$54:$F$58,0)),"") -> Improbable (puede ocurrir ocasionalmente) | K21: 3 | L21: =IFERROR(INDEX('TABLAS DE VALORACIÓN'!$G$52:$K$52,1,MATCH(K21,'TABLAS DE VALORACIÓN'!$G$53:$K$53,0)),"") -> Moderado | M21: =IFERROR(I21*K21,"") -> 6 | N21: =IFERROR(INDEX('TABLAS DE VALORACIÓN'!$F$54:$F$58,MATCH(J21,'TABLAS DE VALORACIÓN'!$E$54:$E$58,0))*INDEX('TABLAS DE VALORACIÓN'!$G$53:$K$53,1,MATCH(L21,'TABLAS DE VALORACIÓN'!$G$52:$K$52,0)),"") -> 6 | O21: Almacén / área requirente / UOCC | P21: Acta de recepción conforme, verificación contra contrato/ficha técnica y evaluación del desempeño del proveedor. | Q21: 1 | R21: =IFERROR(INDEX('TABLAS DE VALORACIÓN'!$E$54:$E$58,MATCH(Q21,'TABLAS DE VALORACIÓN'!$F$54:$F$58,0)),"") -> Raro (puede ocurrir excepcionalmente) | S21: 3 | T21: =IFERROR(INDEX('TABLAS DE VALORACIÓN'!$G$52:$K$52,1,MATCH(S21,'TABLAS DE VALORACIÓN'!$G$53:$K$53,0)),"") -> Moderado | U21: =IFERROR(Q21*S21,"") -> 3 | V21: =IFERROR(INDEX('TABLAS DE VALORACIÓN'!$F$54:$F$58,MATCH(R21,'TABLAS DE VALORACIÓN'!$E$54:$E$58,0))*INDEX('TABLAS DE VALORACIÓN'!$G$53:$K$53,1,MATCH(T21,'TABLAS DE VALORACIÓN'!$G$52:$K$52,0)),"") -> 3 | W21: Si | X21: Si | Y21: Almacén y área requirente | Z21: Abril 2026 | AA21: 46203 | AB21: Muestreo de recepciones, actas y evaluación de proveedores. | AC21: Mensual
B22: 9 | C22: General | D22: Interno | E22: Etapa postcontractual. | F22: Riesgos Operacionales | G22: Ausencia de seguimiento eficaz en la ejecución del pago. | H22: Dilación en gestión de pago. | I22: 1 | J22: =IFERROR(INDEX('TABLAS DE VALORACIÓN'!$E$54:$E$58,MATCH(I22,'TABLAS DE VALORACIÓN'!$F$54:$F$58,0)),"") -> Raro (puede ocurrir excepcionalmente) | K22: 3 | L22: =IFERROR(INDEX('TABLAS DE VALORACIÓN'!$G$52:$K$52,1,MATCH(K22,'TABLAS DE VALORACIÓN'!$G$53:$K$53,0)),"") -> Moderado | M22: =IFERROR(I22*K22,"") -> 3 | N22: =IFERROR(INDEX('TABLAS DE VALORACIÓN'!$F$54:$F$58,MATCH(J22,'TABLAS DE VALORACIÓN'!$E$54:$E$58,0))*INDEX('TABLAS DE VALORACIÓN'!$G$53:$K$53,1,MATCH(L22,'TABLAS DE VALORACIÓN'!$G$52:$K$52,0)),"") -> 3 | O22: Finanzas / DAF / UOCC | P22: Flujo de aprobación y control documental para pago; conciliación entre contrato, recepción conforme, factura y certificaciones. | Q22: 1 | R22: =IFERROR(INDEX('TABLAS DE VALORACIÓN'!$E$54:$E$58,MATCH(Q22,'TABLAS DE VALORACIÓN'!$F$54:$F$58,0)),"") -> Raro (puede ocurrir excepcionalmente) | S22: 3 | T22: =IFERROR(INDEX('TABLAS DE VALORACIÓN'!$G$52:$K$52,1,MATCH(S22,'TABLAS DE VALORACIÓN'!$G$53:$K$53,0)),"") -> Moderado | U22: =IFERROR(Q22*S22,"") -> 3 | V22: =IFERROR(INDEX('TABLAS DE VALORACIÓN'!$F$54:$F$58,MATCH(R22,'TABLAS DE VALORACIÓN'!$E$54:$E$58,0))*INDEX('TABLAS DE VALORACIÓN'!$G$53:$K$53,1,MATCH(T22,'TABLAS DE VALORACIÓN'!$G$52:$K$52,0)),"") -> 3 | W22: Si | X22: Si | Y22: Finanzas | Z22: Abril 2026 | AA22: 46203 | AB22: Revisión de expedientes de pago y tiempos de trámite. | AC22: Mensual
B23: 10 | C23: General | D23: Interno | E23: Etapa precontractual | F23: Riesgos de Cumplimiento / Soborno | G23: Fraccionamiento indebido de compras o contrataciones para evadir umbrales, controles o procedimientos de selección. | H23: Violación de la Ley 47-25, nulidad del proceso, sanciones y afectación reputacional. | I23: 3 | J23: =IFERROR(INDEX('TABLAS DE VALORACIÓN'!$E$54:$E$58,MATCH(I23,'TABLAS DE VALORACIÓN'!$F$54:$F$58,0)),"") -> Posible (puede ocurrir en cualquier momento futuro) | K23: 3 | L23: =IFERROR(INDEX('TABLAS DE VALORACIÓN'!$G$52:$K$52,1,MATCH(K23,'TABLAS DE VALORACIÓN'!$G$53:$K$53,0)),"") -> Moderado | M23: =IFERROR(I23*K23,"") -> 9 | N23: =IFERROR(INDEX('TABLAS DE VALORACIÓN'!$F$54:$F$58,MATCH(J23,'TABLAS DE VALORACIÓN'!$E$54:$E$58,0))*INDEX('TABLAS DE VALORACIÓN'!$G$53:$K$53,1,MATCH(L23,'TABLAS DE VALORACIÓN'!$G$52:$K$52,0)),"") -> 9 | O23: UOCC / DAF / Función de Cumplimiento | P23: Reducir Probabilidad | Q23: 2 | R23: =IFERROR(INDEX('TABLAS DE VALORACIÓN'!$E$54:$E$58,MATCH(Q23,'TABLAS DE VALORACIÓN'!$F$54:$F$58,0)),"") -> Improbable (puede ocurrir ocasionalmente) | S23: 3 | T23: =IFERROR(INDEX('TABLAS DE VALORACIÓN'!$G$52:$K$52,1,MATCH(S23,'TABLAS DE VALORACIÓN'!$G$53:$K$53,0)),"") -> Moderado | U23: =IFERROR(Q23*S23,"") -> 6 | V23: =IFERROR(INDEX('TABLAS DE VALORACIÓN'!$F$54:$F$58,MATCH(R23,'TABLAS DE VALORACIÓN'!$E$54:$E$58,0))*INDEX('TABLAS DE VALORACIÓN'!$G$53:$K$53,1,MATCH(T23,'TABLAS DE VALORACIÓN'!$G$52:$K$52,0)),"") -> 6 | W23: Si | X23: Si | Y23: UOCC y Función de Cumplimiento | Z23: Abril 2026 | AA23: 46203 | AB23: Revisión de consolidación de necesidades, análisis por rubro, alertas de recurrencia y validación del PAC antes de convocar. | AC23: Mensual
B24: 11 | C24: General | D24: Interno | E24: Etapa precontractual | F24: Riesgos de Cumplimiento / Soborno | G24: Conflicto de interés no declarado por miembros del comité, peritos, UOCC o áreas requirentes. | H24: Sesgo en la evaluación, direccionamiento de la adjudicación, investigaciones y sanciones. | I24: 3 | J24: =IFERROR(INDEX('TABLAS DE VALORACIÓN'!$E$54:$E$58,MATCH(I24,'TABLAS DE VALORACIÓN'!$F$54:$F$58,0)),"") -> Posible (puede ocurrir en cualquier momento futuro) | K24: 3 | L24: =IFERROR(INDEX('TABLAS DE VALORACIÓN'!$G$52:$K$52,1,MATCH(K24,'TABLAS DE VALORACIÓN'!$G$53:$K$53,0)),"") -> Moderado | M24: =IFERROR(I24*K24,"") -> 9 | N24: =IFERROR(INDEX('TABLAS DE VALORACIÓN'!$F$54:$F$58,MATCH(J24,'TABLAS DE VALORACIÓN'!$E$54:$E$58,0))*INDEX('TABLAS DE VALORACIÓN'!$G$53:$K$53,1,MATCH(L24,'TABLAS DE VALORACIÓN'!$G$52:$K$52,0)),"") -> 9 | O24: CCC / UOCC / Función de Cumplimiento | P24: Reducir Probabilidad | Q24: 2 | R24: =IFERROR(INDEX('TABLAS DE VALORACIÓN'!$E$54:$E$58,MATCH(Q24,'TABLAS DE VALORACIÓN'!$F$54:$F$58,0)),"") -> Improbable (puede ocurrir ocasionalmente) | S24: 3 | T24: =IFERROR(INDEX('TABLAS DE VALORACIÓN'!$G$52:$K$52,1,MATCH(S24,'TABLAS DE VALORACIÓN'!$G$53:$K$53,0)),"") -> Moderado | U24: =IFERROR(Q24*S24,"") -> 6 | V24: =IFERROR(INDEX('TABLAS DE VALORACIÓN'!$F$54:$F$58,MATCH(R24,'TABLAS DE VALORACIÓN'!$E$54:$E$58,0))*INDEX('TABLAS DE VALORACIÓN'!$G$53:$K$53,1,MATCH(T24,'TABLAS DE VALORACIÓN'!$G$52:$K$52,0)),"") -> 6 | W24: Si | X24: Si | Y24: Función de Cumplimiento | Z24: Abril 2026 | AA24: 46203 | AB24: Declaraciones de conflicto de interés, debida diligencia interna y exclusión del proceso cuando aplique. | AC24: Mensual
B25: 12 | C25: General | D25: Externo | E25: Etapa precontractual | F25: Riesgos de Cumplimiento / Soborno | G25: Debida diligencia insuficiente a proveedores, contratistas, peritos externos o socios de negocio antes de adjudicar. | H25: Contratación de terceros con antecedentes, incompatibilidades o alto riesgo de soborno. | I25: 3 | J25: =IFERROR(INDEX('TABLAS DE VALORACIÓN'!$E$54:$E$58,MATCH(I25,'TABLAS DE VALORACIÓN'!$F$54:$F$58,0)),"") -> Posible (puede ocurrir en cualquier momento futuro) | K25: 3 | L25: =IFERROR(INDEX('TABLAS DE VALORACIÓN'!$G$52:$K$52,1,MATCH(K25,'TABLAS DE VALORACIÓN'!$G$53:$K$53,0)),"") -> Moderado | M25: =IFERROR(I25*K25,"") -> 9 | N25: =IFERROR(INDEX('TABLAS DE VALORACIÓN'!$F$54:$F$58,MATCH(J25,'TABLAS DE VALORACIÓN'!$E$54:$E$58,0))*INDEX('TABLAS DE VALORACIÓN'!$G$53:$K$53,1,MATCH(L25,'TABLAS DE VALORACIÓN'!$G$52:$K$52,0)),"") -> 9 | O25: UOCC / Jurídica / Función de Cumplimiento | P25: Reducir Probabilidad | Q25: 2 | R25: =IFERROR(INDEX('TABLAS DE VALORACIÓN'!$E$54:$E$58,MATCH(Q25,'TABLAS DE VALORACIÓN'!$F$54:$F$58,0)),"") -> Improbable (puede ocurrir ocasionalmente) | S25: 3 | T25: =IFERROR(INDEX('TABLAS DE VALORACIÓN'!$G$52:$K$52,1,MATCH(S25,'TABLAS DE VALORACIÓN'!$G$53:$K$53,0)),"") -> Moderado | U25: =IFERROR(Q25*S25,"") -> 6 | V25: =IFERROR(INDEX('TABLAS DE VALORACIÓN'!$F$54:$F$58,MATCH(R25,'TABLAS DE VALORACIÓN'!$E$54:$E$58,0))*INDEX('TABLAS DE VALORACIÓN'!$G$53:$K$53,1,MATCH(T25,'TABLAS DE VALORACIÓN'!$G$52:$K$52,0)),"") -> 6 | W25: Si | X25: Si | Y25: UOCC | Z25: Abril 2026 | AA25: 46203 | AB25: Aplicación de debida diligencia externa, verificación documental y validación de prohibiciones e inhabilidades. | AC25: Mensual
... B32: 19 | C32: General | D32: Interno | E32: Etapa contractual | F32: Riesgos Tecnológicos / Cumplimiento | G32: Manipulación, alteración o eliminación no autorizada de documentos o registros digitales del proceso. | H32: Pérdida de evidencia, imposibilidad de trazabilidad, investigaciones y afectación reputacional. | I32: 3 | J32: =IFERROR(INDEX('TABLAS DE VALORACIÓN'!$E$54:$E$58,MATCH(I32,'TABLAS DE VALORACIÓN'!$F$54:$F$58,0)),"") -> Posible (puede ocurrir en cualquier momento futuro) | K32: 3 | L32: =IFERROR(INDEX('TABLAS DE VALORACIÓN'!$G$52:$K$52,1,MATCH(K32,'TABLAS DE VALORACIÓN'!$G$53:$K$53,0)),"") -> Moderado | M32: =IFERROR(I32*K32,"") -> 9 | N32: =IFERROR(INDEX('TABLAS DE VALORACIÓN'!$F$54:$F$58,MATCH(J32,'TABLAS DE VALORACIÓN'!$E$54:$E$58,0))*INDEX('TABLAS DE VALORACIÓN'!$G$53:$K$53,1,MATCH(L32,'TABLAS DE VALORACIÓN'!$G$52:$K$52,0)),"") -> 9 | O32: TI / UOCC / OAI | P32: Reducir Probabilidad | Q32: 2 | R32: =IFERROR(INDEX('TABLAS DE VALORACIÓN'!$E$54:$E$58,MATCH(Q32,'TABLAS DE VALORACIÓN'!$F$54:$F$58,0)),"") -> Improbable (puede ocurrir ocasionalmente) | S32: 3 | T32: =IFERROR(INDEX('TABLAS DE VALORACIÓN'!$G$52:$K$52,1,MATCH(S32,'TABLAS DE VALORACIÓN'!$G$53:$K$53,0)),"") -> Moderado | U32: =IFERROR(Q32*S32,"") -> 6 | V32: =IFERROR(INDEX('TABLAS DE VALORACIÓN'!$F$54:$F$58,MATCH(R32,'TABLAS DE VALORACIÓN'!$E$54:$E$58,0))*INDEX('TABLAS DE VALORACIÓN'!$G$53:$K$53,1,MATCH(T32,'TABLAS DE VALORACIÓN'!$G$52:$K$52,0)),"") -> 6 | W32: Si | X32: Si | Y32: TI | Z32: Abril 2026 | AA32: 46203 | AB32: Control de accesos, respaldos, bitácoras de auditoría y restricciones por rol en sistemas y carpetas compartidas. | AC32: Mensual

Sheet TABLAS DE VALORACIÓN
C2: Suempresa | R2: Código | S2: x
C4: TABLA DE VALORACIÓN | R4: Versión 2 | S4: Pág. 1 de 1
R5: Fecha | S5: 45474
B7: Tablas para valoración de riesgo según metodología propuesta por la Dirección General de Contratacciones Públicas en la "Guía para la Gestión Integral de Riesgos en el Proceso de Contratación".
B9: Ocultar esta hoja antes de remitir el anexo para revisión. No imprimir.
B11: Seleccione la opción de las listas desplegables en las columnas con títulos de color amarillo de acuerdo con las siguientes tablas.
B13: TABLA DE VALORACIÓN NÚM. 1 | E13: TABLA DE VALORACIÓN NÚM. 2 | I13: TABLA DE VALORACIÓN NÚM. 3
B14: Clase del Riesgo | C14: Descripción | E14: Fuente del Riesgo | F14: Descripción | I14: Etapas | K14: Descripción
B16: General | C16: es un riesgo de todos los Procesos de Contratación gestionados por la Institución, por lo cual está presente en toda su actividad contractual. | E16: Interno | F16: es un riesgo asociado a la operación, capacidad, o situación particular de la Institución (reputacional, tecnológico). | K16: Es la etapa dentro de la cual se realizan todas las actuaciones previas a la formalización del contrato, que incluyen las fases de planificación, de preparación, de convocatoria, de aclaraciones y respuestas a los oferentes, posibles adendas o enmiendas, de presentación, apertura y evaluación de ofertas y la adjudicación.
B17: Específico | C17: es un riesgo propio del Proceso de Contratación objeto de análisis. | E17: Externo | F17: es un riesgo relacionado con el sector del objeto del proceso de contratación o asociado a factores externos a la institución, como desastres económicos, existencia de monopolios o circunstancias electorales. | I17: Etapa precontractual
I18: Etapa contractual | K18: Luego de la adjudicación del proceso de contratación, inicia la etapa formalización y perfeccionamiento del contrato u orden de compra o de servicio, dentro de la cual se producen todas las actuaciones e incidencias vinculadas a su administración, gestión y ejecución, desde las condiciones de su inicio, las modificaciones contractuales, el equilibrio económico, hasta su terminación.
I19: Etapa postcontractual. | K19: Es la etapa que inicia con la terminación del contrato y que comprende el período de ejecución de las obligaciones posteriores y accesorias que puedan subsistir entre las partes, tales como garantías sobre productos, vicios ocultos o aquellas que se deriven de la liquidación del contrato u orden de compra o de servicio.
B21: TABLA DEL TIPO DE RIESGO SEGÚN SU DEFINICIÓN NÚM. 4 | G21: TABLA DE VALORACIÓN NÚM. 5 | K21: TABLA DE VALORACIÓN NÚM. 6 | R21: TABLA DE VALORACIÓN NÚM. 7
B22: Tipo de riesgo | C22: Descripción | G22: Probabilidad del Riesgo | K22: Impacto del riesgo | R22: PRIORIDAD
G23: Categoría | H23: Valoración | I23: Categoría | K23: Impacto | R23: Extremo | S23: Máxima prioridad; se requiere de acciones inmediatas.
B24: Riesgos Económicos | C24: Estos son resultados que se derivan del comportamiento del mercado, como la variación en los precios de los insumos, la escasez de suministros, la especulación, cambios de tasa o aranceles, entre otros factores. | G24: Raro (puede ocurrir excepcionalmente) | H24: 1 | I24: Es casi imposible que ocurra. Puede ocurrir en circunstancias excepcionales. | K24: Calificación Cualitativa | L24: Obstruye la ejecución del contrato de manera intranscendente. | M24: Dificulta la ejecución del contrato de manera baja. Aplicando mínimas se puede lograr el objeto contractual. | N24: Afecta la ejecución del contrato sin alterar el beneficio para las partes. | O24: Obstruye la ejecución del contrato sustancialmente pero aun así permite la consecución del objeto contractual | P24: Perturba la ejecución del contrato de manera grave imposibilitando la consecución del objeto contractual. | R24: Alto | S24: Alta prioridad; se requiere de acciones a corto plazo. Seguimiento periódico convenido.
B25: Riesgos Sociales o Políticos | C25: Estos son resultados que surgen de los cambios en las políticas gubernamentales y en las condiciones sociales que pueden afectar la implementación del contrato. | G25: Improbable (puede ocurrir ocasionalmente) | H25: 2 | I25: Baja probabilidad de ocurrencia. Es poco probable que ocurra, pero es posible. | K25: Calificación Cuantitativa | L25: Los sobrecostos no representan más del uno por ciento (1%) del valor del contrato | M25: Los sobrecostos no representan más del cinco por ciento (5%) del valor del contrato. | N25: Genera un impacto sobre el valor del contrato entre el cinco (5%) y el quince por ciento (15%). | O25: Incrementa el valor del contrato entre el quince (15%) y el treinta (30%). | P25: Impacto sobre el valor del contrato en más de treinta por ciento (30%) | R25: Medio | S25: Prioridad moderada, se requiere de acciones a mediano plazo. Seguimiento periódico convenido (como mínimo dos veces en el año).
B26: Riesgos Operacionales | C26: Estos son resultados relacionados con la operatividad del contrato, como la disponibilidad suficiente del presupuesto oficial, el plazo adecuado, y los resultados derivados de procesos, procedimientos, parámetros, sistemas de información y tecnológicos, así como la falta de equipos humanos o técnicos adecuados o suficientes. | G26: Posible (puede ocurrir en cualquier momento futuro) | H26: 3 | I26: Mediana probabilidad de ocurrencia. Es probable que ocurra algunas veces. | K26: Categoría | L26: Insignificante | M26: Menor | N26: Moderado | O26: Mayor | P26: Catastrófico | R26: Bajo | S26: Baja prioridad; no son necesarias acciones adicionales. Las acciones de la institución son suficientes para la prevención del riesgo. Evaluar la posibilidad de retener el riesgo
B27: Riesgos Financieros | C27: son (i) el riesgo de consecución de financiación o riesgo de liquidez para obtener recursos para cumplir con el objeto del contrato, y (ii) el riesgo de las condiciones financieras establecidas para la obtención de los recursos, tales como plazos, tasas, garantías, contragarantías, y refinanciaciones, entre otros. | G27: Probable (probablemente va a ocurrir) | H27: 4 | I27: Alta probabilidad de ocurrencia. Es probable que ocurra varias veces | K27: Valoración | L27: 1 | M27: 2 | N27: 3 | O27: 4 | P27: 5
B28: Riesgos Regulatorios | C28: Derivados de cambios regulatorios o reglamentarios que afecten la ecuación económica del contrato. | G28: Casi seguro (ocurre en la mayoría de las circunstancias) | H28: 5 | I28: Muy alta probabilidad de ocurrencia. Es probable que ocurra muchas veces.
B29: Riesgos de la Naturaleza | C29: son los eventos naturales previsibles en los cuales no hay intervención humana que puedan tener impacto en la ejecución del contrato, por ejemplo, los temblores, inundaciones, lluvias, sequías, entre otros. | M29: TABLA DE PERIODICIDAD DEL TRATAMIENTO O MONITOREO NÚM 10
B30: Riesgos Ambientales | C30: son los derivados de las obligaciones legales o reglamentarias de carácter ambiental, así como de las licencias, planes de manejo o de permisos y autorizaciones ambientales, incluyendo tasas retributivas y compensatorias, obligaciones de mitigación, tareas de monitoreo y control, entre otras. | G30: TABLA RESPOSABLE SE IMPLMENTAREL TRATAMIENTO N.ÚM. 8 | J30: TABLA DE EJECUCIÓN DEL CONTRATO N.ÚM. 9 | M30: Periodicidad | N30: Diaria
B31: Riesgos Antrópicos | C31: son aquellos riesgos que son causados o influenciados por la actividad humana. Esto significa que son riesgos que no existirían sin la presencia y el comportamiento humano, y que son consecuencia de nuestra interacción con el medio ambiente y con otros seres vivos. | G31: Responsable por implementar el tratamiento | H31: Institución | J31: ¿Afecta la ejecución del contrato? | K31: Si | N31: Semanal
B32: Riesgos Tecnológicos | C32: son los derivados de fallas en los sistemas de comunicación de voz y de datos, suspensión de servicios públicos, nuevos desarrollos tecnológicos o estándares que deben ser tenidos en cuenta para la ejecución del contrato, obsolescencia tecnológica. | H32: Proveedor | K32: No | N32: Quincenal
B33: Riesgos de Corrupción | C33: Es la probabilidad de que, por acción u omisión, uso indebido del poder, de los recursos o de la información, se lesionen los intereses de una institución y en consecuencia del Estado, para la obtención de un beneficio particular. | H33: Institución y Proveedor | N33: Mensual
B34: Riesgos de Cumplimiento | C34: Es la probabilidad de que ocurra un incumplimiento que implique una consecuencia negativa de afectación a la reputación institucional, sus finanzas u operaciones en general. | N34: Bimestral
B35: Riesgos de Integridad | C35: Es la probabilidad de que ocurra un incumplimiento que comprometa la integridad y transparencia del proceso de contratación y que afecte de manera negativa la reputación de la organización, sus finanzas o sus operaciones en general. | N35: Trimestral
N36: Cuatrimestral
N37: Semestral
N38: Anual
N39: Permanente
B46: Tablas para valoración de riesgo según metodología propuesta por la Dirección General de Contratacciones Públicas en la "Guía para la Gestión Integral de Riesgos en el Proceso de Contratación".
E48: Valoración (combinación de probabilidad y valoración) | M48: Categoría del riesgo
E49: Impacto | M49: Valoración del riesgo | N49: Categoría
E50: Calificación Cualitativa | G50: Obstruye la ejecución del contrato de manera intranscendente. | H50: Dificulta la ejecución del contrato de manera baja. Aplicando mínimas se puede lograr el objeto contractual. | I50: Afecta la ejecución del contrato sin alterar el beneficio para las partes. | J50: Obstruye la ejecución del contrato sustancialmente pero aun así permite la consecución del objeto contractual | K50: Perturba la ejecución del contrato de manera grave imposibilitando la consecución del objeto contractual. | M50: 16,20 y 25 | N50: Riesgo Extremo
E51: Calificación Cuantitativa | G51: Los sobrecostos no representan más del uno por ciento (1%) del valor del contrato | H51: Los sobrecostos no representan más del cinco por ciento (5%) del valor del contrato. | I51: Genera un impacto sobre el valor del contrato entre el cinco (5%) y el quince por ciento (15%). | J51: Incrementa el valor del contrato entre el quince (15%) y el treinta (30%). | K51: Impacto sobre el valor del contrato en más de treinta por ciento (30%) | M51: 10 12 y 15 | N51: Riesgo Alto
E52: Categoria | F52: Valoración | G52: Insignificante | H52: Menor | I52: Moderado | J52: Mayor | K52: Catastrófico | M52: 5, 6, 8 y 9 | N52: Riesgo Medio
G53: 1 | H53: 2 | I53: 3 | J53: 4 | K53: 5 | M53: 1, 2. 3 y 4 | N53: Riesgo Bajo
D54: Probabilidad | E54: Raro (puede ocurrir excepcionalmente) | F54: 1 | G54: =+$F54*G$53 -> 1 | H54: =+$F54*H$53 -> 2 | I54: =+$F54*I$53 -> 3 | J54: =+$F54*J$53 -> 4 | K54: =+$F54*K$53 -> 5
E55: Improbable (puede ocurrir ocasionalmente) | F55: 2 | G55: =+$F55*G$53 -> 2 | H55: =+$F55*H$53 -> 4 | I55: =+$F55*I$53 -> 6 | J55: =+$F55*J$53 -> 8 | K55: =+$F55*K$53 -> 10 | M55: Paleta de Colores
...

Sheet Hoja1
