Workbook

Sheet Matriz
C3: Matriz parque de impresoras del ADN
C4: =NOW() -> 46241.688
A6: item | B6: codigo de inventario | C6: Descripcion del Equipo | D6: Marca | E6: Modelo | F6: conexión | G6: Tipo | H6: Mecanismo de impresión | I6: color de impresión | J6: Localidad | K6: Direccion | L6: Departamento | M6: Nombre de usuario | N6: Piso | O6: Estado | P6: Condicion | Q6: Propietario | R6: Observacion
A7: 275 | B7: ADN0310449 | C7: IMPRESORA, HP LASER JET, P-4015N, COLOR CREMA | D7: HP | E7: P4015N | F7: USB | G7: Impresora | H7: Laser | I7: Blanco y negro | J7: Palacio Municipal | K7: administrativa | L7: Archivo y Correspondencia | M7: Lenny Mariel Torres Lora | N7: 1er | O7: en uso | Q7: ADN | R7: ok
A8: 355 | B8: ADN1496516122 | C8: IMPRESORA ZEBRA MOD. ZD410, GRIS | D8: ZEBRA | E8: ZD410 | F8: USB | G8: Impresora | H8: Termica | I8: Blanco y negro | J8: Palacio Municipal | K8: administrativa | L8: Archivo y Correspondencia | M8: Lenny Mariel Torres Lora | N8: 1er | O8: en uso | Q8: ADN | R8: ok
A9: 3 | B9: ADN141166567 | C9: IMPRESORA LASER, MARCA HP, MOD. P1005, | D9: HP | E9: P1005 | G9: Impresora | I9: Blanco y negro | J9: Palacio Municipal | K9: Dirección de Recaudación | M9: YOLANDA BERTILIA DE LA ROSA FERNANDEZ | N9: 1er | O9: Perdida | Q9: ADN | R9: no encontrada
A10: 4 | B10: ADN149466 | C10: IMPRESORA LASER, A COLOR, EPSON, STUDIO T22, NEGRO | D10: EPSON | E10: STUDIO T22 | G10: Impresora | I10: Blanco y negro | J10: Palacio Municipal | K10: Control de Bienes | M10: Josefa Guerrero | N10: 1er | O10: Descargada | P10: Desacargada | Q10: ADN | R10: estan descargadas a control de bienes
A11: 311 | B11: ADN14117375 | C11: IMPRESORA DE INYECCION, HP,MODELO 6940 GRIS, NEGRO | D11: HP | E11: 6940 | F11: USB | G11: Impresora | H11: TINTA | I11: a color | J11: Palacio Municipal | K11: administrativa | M11: Oscar Torres | N11: 5to | O11: en uso | Q11: ADN | R11: ok
A12: 6 | B12: ADN031074277 | C12: IMPRESORA MULTIFUNCION, LEXMARK, MODELO X-83, COLOR CREMA | D12: LEXMARK | E12: X-83 | G12: Impresora | I12: Blanco y negro | J12: Palacio Municipal | K12: Control de Bienes | M12: Josefa Guerrero | N12: 1er | O12: Descargada | P12: Desacargada | Q12: ADN | R12: estan descargadas a control de bienes
A13: 7 | B13: ADN0311585 | C13: IMPRESORA,MARCA ZEBRA,PARA CODIGO DE BARRA | D13: ZEBRA | E13: ZD410 | G13: Impresora | I13: Blanco y negro | J13: Palacio Municipal | K13: Control de Bienes | M13: Josefa Guerrero | N13: 1er | O13: Descargada | P13: Desacargada | Q13: ADN | R13: estan descargadas a control de bienes
A14: 8 | B14: ADN0311586 | C14: IMPRESORA,MARCA ZEBRA,PARA CODIGO DE BARRA | D14: ZEBRA | E14: ZD410 | G14: Impresora | I14: Blanco y negro | J14: Palacio Municipal | K14: Control de Bienes | M14: Josefa Guerrero | N14: 1er | O14: Descargada | P14: Desacargada | Q14: ADN | R14: estan descargadas a control de bienes
A15: 9 | B15: ADN0311587 | C15: IMPRESORA,MARCA ZEBRA,PARA CODIGO DE BARRA | D15: ZEBRA | E15: ZD410 | G15: Impresora | I15: Blanco y negro | J15: Palacio Municipal | K15: Control de Bienes | M15: Josefa Guerrero | N15: 1er | O15: Descargada | P15: Desacargada | Q15: ADN | R15: estan descargadas a control de bienes
A16: 10 | B16: ADN03116848 | C16: IMPRESORA MULTIFUNCIONAL HP, DESTJET 1515 AIO.BLANCA | D16: HP | E16: 1515 AIO | G16: Impresora | I16: a color | J16: Palacio Municipal | K16: Control de Bienes | M16: Josefa Guerrero | N16: 1er | O16: Descargada | P16: Desacargada | Q16: ADN | R16: estan descargadas a control de bienes
A17: 11 | B17: ADN031172501 | C17: IMPRESORA DE INYECCION, HP, MODELO 920C, COLOR CREMA | D17: HP | E17: 920C | G17: Impresora | I17: Blanco y negro | J17: Palacio Municipal | K17: Control de Bienes | M17: Josefa Guerrero | N17: 1er | O17: Descargada | P17: Desacargada | Q17: ADN | R17: estan descargadas a control de bienes
A18: 12 | B18: ADN0312865 | C18: IMPRESORA HP MOD-1000, COLOR CREMA | D18: HP | E18: 1000 | G18: Impresora | I18: Blanco y negro | J18: Palacio Municipal | K18: Control de Bienes | M18: Josefa Guerrero | N18: 1er | O18: Descargada | P18: Desacargada | Q18: ADN | R18: estan descargadas a control de bienes
A19: 13 | B19: ADN032609081 | C19: IMPRESORA MULTIFUNCION, HP, MOD. CM-232NF, COLOR BLANCO | D19: HP | E19: CM232NF | G19: Impresora | I19: Blanco y negro | J19: Palacio Municipal | K19: Control de Bienes | M19: Josefa Guerrero | N19: 1er | O19: Descargada | P19: Desacargada | Q19: ADN | R19: estan descargadas a control de bienes
A20: 14 | B20: ADN039983 | C20: IMPRESORA,MULTIFUNCIONAL,MARCA LEXMARK,MOD GENESIS S815 | D20: LEXMARK | E20: GENESIS S815 | G20: Impresora | I20: Blanco y negro | J20: Palacio Municipal | K20: Control de Bienes | M20: Josefa Guerrero | N20: 1er | O20: Descargada | P20: Desacargada | Q20: ADN | R20: estan descargadas a control de bienes
A21: 15 | B21: ADN1410741 | C21: IMPRESORA HP,MOD-LASER JETS P1005, GRIS | D21: HP | E21: P1005 | G21: Impresora | I21: Blanco y negro | J21: Palacio Municipal | K21: Control de Bienes | M21: Josefa Guerrero | N21: 1er | O21: Descargada | P21: Desacargada | Q21: ADN | R21: estan descargadas a control de bienes
A22: 16 | B22: ADN1410788 | C22: IMPRESORA,MARCA HP,MOD OFICCE JET,COLOR NEGRO | D22: HP | E22: NO DEFINIDO | G22: Impresora | I22: Blanco y negro | J22: Palacio Municipal | K22: Control de Bienes | M22: Josefa Guerrero | N22: 1er | O22: Descargada | P22: Desacargada | Q22: ADN | R22: estan descargadas a control de bienes
A23: 17 | B23: ADN1410976 | C23: IMPRESORA,MARCA CANNON,MOD LBP3200,BLANCO | D23: CANON | E23: LBP3200 | G23: Impresora | I23: Blanco y negro | J23: Palacio Municipal | K23: Control de Bienes | M23: Josefa Guerrero | N23: 1er | O23: Descargada | P23: Desacargada | Q23: ADN | R23: estan descargadas a control de bienes
A24: 18 | B24: ADN1410978 | C24: IMPRESORA,MARCA LEXMARK,MOD E120,COLOR NEGRO | D24: LEXMARK | E24: E-120 | G24: Impresora | I24: Blanco y negro | J24: Palacio Municipal | K24: Control de Bienes | M24: Josefa Guerrero | N24: 1er | O24: Descargada | P24: Desacargada | Q24: ADN | R24: estan descargadas a control de bienes
A25: 19 | B25: ADN1411047 | C25: IMPRESORA DESK JET,MARCA HP,MOD D3747 | D25: HP | E25: D3747 | G25: Impresora | I25: Blanco y negro | J25: Palacio Municipal | K25: Control de Bienes | M25: Josefa Guerrero | N25: 1er | O25: Descargada | P25: Desacargada | Q25: ADN | R25: estan descargadas a control de bienes
A26: 20 | B26: ADN1411048 | C26: IMPRESORA DESK JET,MOD D1560,MARCA HP | D26: HP | E26: D1560 | G26: Impresora | I26: Blanco y negro | J26: Palacio Municipal | K26: Control de Bienes | M26: Josefa Guerrero | N26: 1er | O26: Descargada | P26: Desacargada | Q26: ADN | R26: estan descargadas a control de bienes
A27: 21 | B27: ADN1411061 | C27: IMPRESORA,MARCA HP,MOD P1005,COLOR CREMA | D27: HP | E27: P1005 | G27: Impresora | I27: Blanco y negro | J27: Externo | K27: Cementerio Cristo Rey | M27: JOSE POLANCO | O27: Por Verificar | Q27: ADN | R27: No encontrada
A28: 22 | B28: ADN141161028 | C28: IMPRESORA LASER, HP, MODELO 1320, CREMA | D28: HP | E28: 1320 | G28: Impresora | I28: Blanco y negro | J28: Palacio Municipal | K28: Control de Bienes | M28: Josefa Guerrero | N28: 1er | O28: Descargada | P28: Desacargada | Q28: ADN | R28: estan descargadas a control de bienes
A29: 23 | B29: ADN141161351 | C29: IMPRESORA LASER, HP, MODELO 1015, GRIS | D29: HP | E29: 1015 | G29: Impresora | I29: Blanco y negro | J29: Palacio Municipal | K29: Control de Bienes | M29: Josefa Guerrero | N29: 1er | O29: Descargada | P29: Desacargada | Q29: ADN | R29: estan descargadas a control de bienes
A30: 479 | B30: N/A | C30: Ricoh MP501 | D30: Ricoh | E30: MP501 | F30: RED | G30: Impresora | H30: Laser | I30: Blanco y negro | J30: Palacio Municipal | K30: administrativa | L30: Almacen y suministro | M30: Francisco Faña | N30: 1er | O30: en uso | Q30: CSI | R30: alquilada
A31: 25 | B31: ADN141161458 | C31: IMPRESORA LASER, HP, MODELO 1015, COLOR GRIS | D31: HP | E31: 1015 | G31: Impresora | I31: Blanco y negro | J31: Palacio Municipal | K31: Control de Bienes | M31: Josefa Guerrero | N31: 1er | O31: Descargada | P31: Desacargada | Q31: ADN | R31: estan descargadas a control de bienes
A32: 26 | B32: ADN141161505 | C32: IMPRESORA LASER, MARCA LEXMARK, GRIS | D32: LEXMARK | E32: NO DEFINIDO | G32: Impresora | I32: Blanco y negro | J32: Palacio Municipal | K32: Control de Bienes | M32: Josefa Guerrero | N32: 1er | O32: Descargada | P32: Desacargada | Q32: ADN | R32: estan descargadas a control de bienes
A33: 27 | B33: ADN141161517 | C33: IMPRESORA HP, MOD. 1660, NEGRO | D33: HP | E33: 1660 | G33: Impresora | I33: Blanco y negro | J33: Palacio Municipal | K33: Control de Bienes | M33: Josefa Guerrero | N33: 1er | O33: Descargada | P33: Desacargada | Q33: ADN | R33: estan descargadas a control de bienes
A34: 28 | B34: ADN141161591 | C34: IMPRESORA LASER, LEXMARK, MODELO E230, NEGRO | D34: LEXMARK | E34: E230 | G34: Impresora | I34: Blanco y negro | J34: Palacio Municipal | K34: Control de Bienes | M34: Josefa Guerrero | N34: 1er | O34: Descargada | P34: Desacargada | Q34: ADN | R34: estan descargadas a control de bienes
A35: 29 | B35: ADN141161603 | C35: IMPRESORA LASER, LEXMARK, MODELO E340, NEGRO | D35: LEXMARK | E35: E-340 | G35: Impresora | I35: Blanco y negro | J35: Palacio Municipal | K35: Control de Bienes | M35: Josefa Guerrero | N35: 1er | O35: Descargada | P35: Desacargada | Q35: ADN | R35: estan descargadas a control de bienes
A36: 480 | B36: N/A | C36: Ricoh MP2554 | D36: Ricoh | E36: MP2554 | F36: RED | G36: Impresora | H36: Laser | I36: Blanco y negro | J36: Palacio Municipal | K36: administrativa | M36: Francisco Faña | N36: 1er | O36: en uso | Q36: CSI | R36: alquilada
A37: 31 | B37: ADN1411616242 | C37: IMPRESORA HP LASERJET P1102W COL.NEGRO | D37: HP | E37: LASERJET P1102W | G37: Impresora | I37: Blanco y negro | J37: Externo | K37: Dirección de Defensoría y Uso de Espacios Públicos | M37: ADRIAN RAFAEL JIMENEZ GARRIDO | O37: Por Verificar | Q37: ADN | R37: No encontrada
A38: 32 | B38: ADN141161680 | C38: IMPRESORA LASER, HP, MODELO 1100, CREMA | D38: HP | E38: 1100 | G38: Impresora | I38: Blanco y negro | J38: Palacio Municipal | K38: Control de Bienes | M38: Josefa Guerrero | N38: 1er | O38: Descargada | P38: Desacargada | Q38: ADN | R38: estan descargadas a control de bienes
A39: 33 | B39: ADN141161791 | C39: IMPRESORA LASER, HP, MODELO 1020, COLOR GRIS | D39: HP | E39: 1020 | G39: Impresora | I39: Blanco y negro | J39: Palacio Municipal | K39: Dirección Jurídica | M39: RICARDO AYANES PEREZ NUÑEZ | O39: Perdida | Q39: ADN | R39: no encontrada
A40: 34 | B40: ADN1411617985 | C40: IMPRESORA LASER JET PRO MFP M 227 BLANCO | D40: HP | E40: M227FDW | G40: Impresora | I40: Blanco y negro | J40: Palacio Municipal | K40: Dirección de Servicio Social | M40: DIGNA REYNOSO | O40: Perdida | Q40: ADN | R40: no encontrada
A41: 35 | B41: ADN1411617986 | C41: IMPRESORA LASER JET PRO M227 BLANCO | D41: HP | E41: M227FDW | G41: Impresora | I41: Blanco y negro | J41: Palacio Municipal | K41: Dirección de Servicio Social | M41: DIGNA REYNOSO | O41: Perdida | Q41: ADN | R41: no encontrada
A42: 36 | B42: ADN1411617987 | C42: IMPRESORA LASER JET PRO M227 BLANCO | D42: HP | E42: M227FDW | G42: Impresora | I42: Blanco y negro | J42: Palacio Municipal | K42: Dirección de Servicio Social | M42: DIGNA REYNOSO | O42: Perdida | Q42: ADN | R42: no encontrada
A43: 37 | B43: ADN1411617989 | C43: IMPRESORA LASER JET PRO M227 BLANCO | D43: HP | E43: M227FDW | G43: Impresora | I43: Blanco y negro | J43: Palacio Municipal | K43: Dirección de Servicio Social | M43: DIGNA REYNOSO | O43: Perdida | Q43: ADN | R43: no encontrada
...

Sheet Direcciones
D1: Alcaldia del Distrito Nacional
D2: Direccion de Tecnologia de la Informacion
A3: Relacion de Impresoras Palacio Municipal
F4: Tipo de Printer
B5: item | D5: Direccion | E5: Departamento | F5: Color | G5: B/N | H5: Volumen/ Pags. | I5: Capacidad | J5: Multifun.
C6: 1 | D6: Direccion administrativa | E6: Despacho del Director | F6: 1 | G6: 0 | H6: 1500 | J6: N/A
E7: Archivo y Correspondencia | F7: 0 | G7: 1 | H7: 2500 | J7: Multifuncional
E8: Almacen y suministro | F8: 0 | G8: 1 | H8: 500 | J8: N/A
E9: Compras y Contrataciones | F9: 1 | G9: 1 | H9: 7500 | J9: Multifuncional
E10: Planta fisica | F10: 0 | G10: 0 | H10: 500 | J10: N/A
E11: Control De Bienes | F11: 0 | G11: 1 | H11: 500 | J11: N/A
E12: Gobernacion | F12: 0 | G12: 1 | H12: 500 | J12: N/A
C13: 2 | D13: Direccion de Aseo urbano y equipos | E13: Despacho del Director | F13: 1 | G13: 0 | H13: 500 | J13: N/A
E14: Area de Coordinacion General | F14: 0 | G14: 1 | H14: 500 | J14: Multifuncional
E15: Area de Control operativo | F15: 1 | G15: 0 | H15: 500 | J15: N/A
C16: 3 | D16: Direccion de Auditoria | E16: Despacho Director | F16: 1 | G16: 0 | H16: 1500 | J16: N/A
E17: Area de Coordinacion General | F17: 0 | G17: 1 | H17: 1500 | J17: Multifuncional
C18: 4 | D18: Direccion de Comunicaciones | E18: Despacho Director | F18: 1 | G18: 0 | H18: 500 | J18: N/A
E19: Prensa | F19: 0 | G19: 1 | H19: 500 | J19: N/A
E20: Fotografia | F20: 0 | G20: 1 | H20: 500 | J20: Multifuncional
C21: 5 | D21: Concejo Municipal | E21: Presidencia | F21: 1 | G21: 0 | H21: 500 | J21: N/A
E22: Vice-presidencia | F22: 1 | G22: 0 | H22: 500 | J22: N/A
E23: Bloque PLD | F23: 0 | G23: 1 | H23: 500 | J23: N/A
E24: Bloque PLD | F24: 0 | G24: 1 | H24: 3500 | J24: Multifuncional
E25: Bloque PRM | F25: 0 | G25: 1 | H25: 500 | J25: N/A
E26: Bloque PRD | F26: 0 | G26: 1 | H26: 500 | J26: N/A
E27: Director Admin-Concejo | F27: 0 | G27: 1 | H27: 500 | J27: N/A
E28: Secretaria Admin-Concejo | F28: 0 | G28: 1 | H28: 500 | J28: N/A
E29: Archivo | F29: 0 | G29: 1 | H29: 500 | J29: N/A
C30: 6 | D30: Desarrollo comunitario | E30: Despacho Director | F30: 0 | G30: 1 | H30: 1500 | J30: N/A
E31: Administrativo | F31: 0 | G31: 1 | H31: 1500 | J31: N/A
C32: 7 | D32: Despacho del Alcalde | E32: Jefa Despacho | F32: 1 | G32: 1 | H32: 1000 | J32: Multifuncional
E33: Secretaria Tecnica | F33: 0 | G33: 1 | H33: 500 | J33: N/A
E34: Protocolo | F34: 0 | G34: 1 | H34: 1000 | J34: N/A
C35: 8 | D35: Dirección de Infraestructura Urbana | E35: Despacho Director | F35: 1 | G35: 0 | H35: 500 | J35: N/A
E36: Diseño | F36: 0 | G36: 0 | H36: 0 | J36: N/A
E37: Ejecucion De Obras | F37: 0 | G37: 0 | H37: 0 | J37: N/A
E38: Administrativo | F38: 0 | G38: 1 | H38: 2500 | J38: Multifuncional
C39: 9 | D39: Dirección de Recaudación | E39: Despacho DIrector | F39: 1 | G39: 0 | H39: 1500 | J39: N/A
E40: Gestion Comercial | F40: 0 | G40: 2 | H40: 500 | J40: Multifuncional
...

Sheet Resumen Direcciones
A1: Resumen de Impresoras Requeridas por Dirección
A2: Según levantamiento – hoja Direcciones (Palacio Municipal). Especificaciones técnicas, sin referencia a marcas.
A4: Item | B4: Dirección | C4: A color sugeridas (según %) | D4: Blanco y negro (restante) | E4: Total Impresoras | F4: Multifuncionales sugeridas (incluidas en el total) | G4: Volumen Mensual (pág.) | H4: Vol. a Color Estimado (pág./mes) | I4: Categoría de Equipo Sugerida | J4: Características técnicas sugeridas | K4: Velocidad sugerida (ppm) | L4: Características técnicas sugeridas | M4: Opción a color | N4: Ref. original (levantamiento) | O4: Campos variables / aclaración
A5: 1 | B5: =Direcciones!D6 -> Direccion administrativa | C5: {=IF(M5="No",0,IFERROR(ROUND($E$32*N5/SUMPRODUCT(($M$5:$M$30<>"No")*$N$5:$N$30),0),0))} -> 1 | D5: =E5-C5 -> 6 | E5: =SUM(Direcciones!F6:G12) -> 7 | F5: =COUNTIF(Direcciones!J6:J12,"Multifuncional") -> 2 | G5: =SUM(Direcciones!H6:H12) -> 13500 | H5: =ROUND(G5*$C$32,0) -> 270 | I5: {=_xlfn.IFS(IFERROR(G5/E5,0)<=1000,"A – Escritorio",IFERROR(G5/E5,0)<=3000,"B – Departamental",IFERROR(G5/E5,0)<=10000,"C – Alto volumen",TRUE,"D – Producción")} -> B – Departamental | J5: Láser compacto (mono) 6 GB Ram Mínimo - 256 GB SSD con capacidad de 11*17 | K5: =INDEX($D$36:$D$39,MATCH(I5,$A$36:$A$39,0)) -> 30–40 ppm | L5: =IF(M5="No",INDEX($H$36:$H$39,MATCH(I5,$A$36:$A$39,0)),INDEX($E$36:$E$39,MATCH(I5,$A$36:$A$39,0))) -> Láser con bandeja ampliada; multifuncional departamental, dúplex | M5: Sí | N5: =SUM(Direcciones!F6:F12) -> 2 | O5: El % de color se modifica en C31. Cambiarlo recalcula la distribución Color vs. Blanco/Negro, pero no cambia el total de 97 equipos. Las 18 multifuncionales están incluidas dentro de ese total.
A6: 2 | B6: =Direcciones!D13 -> Direccion de Aseo urbano y equipos | C6: {=IF(M6="No",0,IFERROR(ROUND($E$32*N6/SUMPRODUCT(($M$5:$M$30<>"No")*$N$5:$N$30),0),0))} -> 1 | D6: =E6-C6 -> 2 | E6: =SUM(Direcciones!F13:G15) -> 3 | F6: =COUNTIF(Direcciones!J13:J15,"Multifuncional") -> 1 | G6: =SUM(Direcciones!H13:H15) -> 1500 | H6: =ROUND(G6*$C$32,0) -> 30 | I6: {=_xlfn.IFS(IFERROR(G6/E6,0)<=1000,"A – Escritorio",IFERROR(G6/E6,0)<=3000,"B – Departamental",IFERROR(G6/E6,0)<=10000,"C – Alto volumen",TRUE,"D – Producción")} -> A – Escritorio | J6: tamaño documental máximo 8.5*14 para escaneo - copia e impresión. | K6: =INDEX($D$36:$D$39,MATCH(I6,$A$36:$A$39,0)) -> 20–30 ppm | L6: =IF(M6="No",INDEX($H$36:$H$39,MATCH(I6,$A$36:$A$39,0)),INDEX($E$36:$E$39,MATCH(I6,$A$36:$A$39,0))) -> Láser compacto (mono o color); uso personal/escritorio | M6: Sí | N6: =SUM(Direcciones!F13:F15) -> 2
A7: 3 | B7: =Direcciones!D16 -> Direccion de Auditoria | C7: {=IF(M7="No",0,IFERROR(ROUND($E$32*N7/SUMPRODUCT(($M$5:$M$30<>"No")*$N$5:$N$30),0),0))} -> 1 | D7: =E7-C7 -> 1 | E7: =SUM(Direcciones!F16:G17) -> 2 | F7: =COUNTIF(Direcciones!J16:J17,"Multifuncional") -> 1 | G7: =SUM(Direcciones!H16:H17) -> 3000 | H7: =ROUND(G7*$C$32,0) -> 60 | I7: {=_xlfn.IFS(IFERROR(G7/E7,0)<=1000,"A – Escritorio",IFERROR(G7/E7,0)<=3000,"B – Departamental",IFERROR(G7/E7,0)<=10000,"C – Alto volumen",TRUE,"D – Producción")} -> B – Departamental | J7: Láser compacto (mono) 6 GB Ram Mínimo - 256 GB SSD con capacidad de 11*17 | K7: =INDEX($D$36:$D$39,MATCH(I7,$A$36:$A$39,0)) -> 30–40 ppm | L7: =IF(M7="No",INDEX($H$36:$H$39,MATCH(I7,$A$36:$A$39,0)),INDEX($E$36:$E$39,MATCH(I7,$A$36:$A$39,0))) -> Láser con bandeja ampliada; multifuncional departamental, dúplex | M7: Sí | N7: =SUM(Direcciones!F16:F17) -> 1
A8: 4 | B8: =Direcciones!D18 -> Direccion de Comunicaciones | C8: {=IF(M8="No",0,IFERROR(ROUND($E$32*N8/SUMPRODUCT(($M$5:$M$30<>"No")*$N$5:$N$30),0),0))} -> 1 | D8: =E8-C8 -> 2 | E8: =SUM(Direcciones!F18:G20) -> 3 | F8: =COUNTIF(Direcciones!J18:J20,"Multifuncional") -> 1 | G8: =SUM(Direcciones!H18:H20) -> 1500 | H8: =ROUND(G8*$C$32,0) -> 30 | I8: {=_xlfn.IFS(IFERROR(G8/E8,0)<=1000,"A – Escritorio",IFERROR(G8/E8,0)<=3000,"B – Departamental",IFERROR(G8/E8,0)<=10000,"C – Alto volumen",TRUE,"D – Producción")} -> A – Escritorio | J8: #N/A | K8: =INDEX($D$36:$D$39,MATCH(I8,$A$36:$A$39,0)) -> 20–30 ppm | L8: =IF(M8="No",INDEX($H$36:$H$39,MATCH(I8,$A$36:$A$39,0)),INDEX($E$36:$E$39,MATCH(I8,$A$36:$A$39,0))) -> Láser compacto (mono o color); uso personal/escritorio | M8: Sí | N8: =SUM(Direcciones!F18:F20) -> 1
A9: 5 | B9: =Direcciones!D21 -> Concejo Municipal | C9: {=IF(M9="No",0,IFERROR(ROUND($E$32*N9/SUMPRODUCT(($M$5:$M$30<>"No")*$N$5:$N$30),0),0))} -> 0 | D9: =E9-C9 -> 9 | E9: =SUM(Direcciones!F21:G29) -> 9 | F9: =COUNTIF(Direcciones!J21:J29,"Multifuncional") -> 1 | G9: =SUM(Direcciones!H21:H29) -> 7500 | H9: =ROUND(G9*$C$32,0) -> 150 | I9: {=_xlfn.IFS(IFERROR(G9/E9,0)<=1000,"A – Escritorio",IFERROR(G9/E9,0)<=3000,"B – Departamental",IFERROR(G9/E9,0)<=10000,"C – Alto volumen",TRUE,"D – Producción")} -> A – Escritorio | J9: #N/A | K9: =INDEX($D$36:$D$39,MATCH(I9,$A$36:$A$39,0)) -> 20–30 ppm | L9: =IF(M9="No",INDEX($H$36:$H$39,MATCH(I9,$A$36:$A$39,0)),INDEX($E$36:$E$39,MATCH(I9,$A$36:$A$39,0))) -> Láser monocromático compacto; uso personal/escritorio | M9: No | N9: =SUM(Direcciones!F21:F29) -> 2 | O9: Total equipos requeridos | Q9: 97
A10: 6 | B10: =Direcciones!D30 -> Desarrollo comunitario | C10: {=IF(M10="No",0,IFERROR(ROUND($E$32*N10/SUMPRODUCT(($M$5:$M$30<>"No")*$N$5:$N$30),0),0))} -> 0 | D10: =E10-C10 -> 2 | E10: =SUM(Direcciones!F30:G31) -> 2 | F10: =COUNTIF(Direcciones!J30:J31,"Multifuncional") -> 0 | G10: =SUM(Direcciones!H30:H31) -> 3000 | H10: =ROUND(G10*$C$32,0) -> 60 | I10: {=_xlfn.IFS(IFERROR(G10/E10,0)<=1000,"A – Escritorio",IFERROR(G10/E10,0)<=3000,"B – Departamental",IFERROR(G10/E10,0)<=10000,"C – Alto volumen",TRUE,"D – Producción")} -> B – Departamental | J10: tamaño documental máximo 11*17 para escaneo - copia e impresión. | K10: =INDEX($D$36:$D$39,MATCH(I10,$A$36:$A$39,0)) -> 30–40 ppm | L10: =IF(M10="No",INDEX($H$36:$H$39,MATCH(I10,$A$36:$A$39,0)),INDEX($E$36:$E$39,MATCH(I10,$A$36:$A$39,0))) -> Láser monocromático con bandeja ampliada; multifuncional departamental, dúplex | M10: No | N10: =SUM(Direcciones!F30:F31) -> 0 | O10: Multifuncionales sugeridas incluidas | Q10: 18
A11: 7 | B11: =Direcciones!D32 -> Despacho del Alcalde | C11: {=IF(M11="No",0,IFERROR(ROUND($E$32*N11/SUMPRODUCT(($M$5:$M$30<>"No")*$N$5:$N$30),0),0))} -> 1 | D11: =E11-C11 -> 3 | E11: =SUM(Direcciones!F32:G34) -> 4 | F11: =COUNTIF(Direcciones!J32:J34,"Multifuncional") -> 1 | G11: =SUM(Direcciones!H32:H34) -> 2500 | H11: =ROUND(G11*$C$32,0) -> 50 | I11: {=_xlfn.IFS(IFERROR(G11/E11,0)<=1000,"A – Escritorio",IFERROR(G11/E11,0)<=3000,"B – Departamental",IFERROR(G11/E11,0)<=10000,"C – Alto volumen",TRUE,"D – Producción")} -> A – Escritorio | J11: #N/A | K11: =INDEX($D$36:$D$39,MATCH(I11,$A$36:$A$39,0)) -> 20–30 ppm | L11: =IF(M11="No",INDEX($H$36:$H$39,MATCH(I11,$A$36:$A$39,0)),INDEX($E$36:$E$39,MATCH(I11,$A$36:$A$39,0))) -> Láser compacto (mono o color); uso personal/escritorio | M11: Sí | N11: =SUM(Direcciones!F32:F34) -> 1
A12: 8 | B12: =Direcciones!D35 -> Dirección de Infraestructura Urbana | C12: {=IF(M12="No",0,IFERROR(ROUND($E$32*N12/SUMPRODUCT(($M$5:$M$30<>"No")*$N$5:$N$30),0),0))} -> 1 | D12: =E12-C12 -> 1 | E12: =SUM(Direcciones!F35:G38) -> 2 | F12: =COUNTIF(Direcciones!J35:J38,"Multifuncional") -> 1 | G12: =SUM(Direcciones!H35:H38) -> 3000 | H12: =ROUND(G12*$C$32,0) -> 60 | I12: {=_xlfn.IFS(IFERROR(G12/E12,0)<=1000,"A – Escritorio",IFERROR(G12/E12,0)<=3000,"B – Departamental",IFERROR(G12/E12,0)<=10000,"C – Alto volumen",TRUE,"D – Producción")} -> B – Departamental | J12: Láser compacto (mono) 6 GB Ram Mínimo - 256 GB SSD con capacidad de 11*17 | K12: =INDEX($D$36:$D$39,MATCH(I12,$A$36:$A$39,0)) -> 30–40 ppm | L12: =IF(M12="No",INDEX($H$36:$H$39,MATCH(I12,$A$36:$A$39,0)),INDEX($E$36:$E$39,MATCH(I12,$A$36:$A$39,0))) -> Láser con bandeja ampliada; multifuncional departamental, dúplex | M12: Sí | N12: =SUM(Direcciones!F35:F38) -> 1
A13: 9 | B13: =Direcciones!D39&" (excl. Facturación)" -> Dirección de Recaudación (excl. Facturación) | C13: {=IF(M13="No",0,IFERROR(ROUND($E$32*N13/SUMPRODUCT(($M$5:$M$30<>"No")*$N$5:$N$30),0),0))} -> 2 | D13: =E13-C13 -> 7 | E13: =SUM(Direcciones!F39:G43)+SUM(Direcciones!F45:G46) -> 9 | F13: =COUNTIF(Direcciones!J39:J43,"Multifuncional")+COUNTIF(Direcciones!J45:J46,"Multifuncional") -> 1 | G13: =SUM(Direcciones!H39:H43)+SUM(Direcciones!H45:H46) -> 11000 | H13: =ROUND(G13*$C$32,0) -> 220 | I13: {=_xlfn.IFS(IFERROR(G13/E13,0)<=1000,"A – Escritorio",IFERROR(G13/E13,0)<=3000,"B – Departamental",IFERROR(G13/E13,0)<=10000,"C – Alto volumen",TRUE,"D – Producción")} -> B – Departamental | J13: Láser compacto (mono) 6 GB Ram Mínimo - 256 GB SSD con capacidad de 11*17 | K13: =INDEX($D$36:$D$39,MATCH(I13,$A$36:$A$39,0)) -> 30–40 ppm | L13: =IF(M13="No",INDEX($H$36:$H$39,MATCH(I13,$A$36:$A$39,0)),INDEX($E$36:$E$39,MATCH(I13,$A$36:$A$39,0))) -> Láser con bandeja ampliada; multifuncional departamental, dúplex | M13: Sí | N13: =SUM(Direcciones!F39:F43)+SUM(Direcciones!F45:F46) -> 3
A14: — | B14: Dir. de Recaudación – Facturación | C14: {=IF(M14="No",0,IFERROR(ROUND($E$32*N14/SUMPRODUCT(($M$5:$M$30<>"No")*$N$5:$N$30),0),0))} -> 0 | D14: =E14-C14 -> 1 | E14: =SUM(Direcciones!F44:G44) -> 1 | F14: =COUNTIF(Direcciones!J44:J44,"Multifuncional") -> 0 | G14: 275000 | H14: =ROUND(G14*$C$32,0) -> 5500 | I14: {=_xlfn.IFS(IFERROR(G14/E14,0)<=1000,"A – Escritorio",IFERROR(G14/E14,0)<=3000,"B – Departamental",IFERROR(G14/E14,0)<=10000,"C – Alto volumen",TRUE,"D – Producción")} -> D – Producción | J14: Láser de producción / alto rendimiento; multifuncional con acabado | K14: =INDEX($D$36:$D$39,MATCH(I14,$A$36:$A$39,0)) -> 55+ ppm | L14: =IF(M14="No",INDEX($H$36:$H$39,MATCH(I14,$A$36:$A$39,0)),INDEX($E$36:$E$39,MATCH(I14,$A$36:$A$39,0))) -> Láser monocromático de producción / alto rendimiento; multifuncional con acabado | M14: No | N14: =SUM(Direcciones!F44:F44) -> 0
A15: 10 | B15: =Direcciones!D47 -> Dirección de Registro Civil | C15: {=IF(M15="No",0,IFERROR(ROUND($E$32*N15/SUMPRODUCT(($M$5:$M$30<>"No")*$N$5:$N$30),0),0))} -> 0 | D15: =E15-C15 -> 3 | E15: =SUM(Direcciones!F47:G51) -> 3 | F15: =COUNTIF(Direcciones!J47:J51,"Multifuncional") -> 1 | G15: =SUM(Direcciones!H47:H51) -> 4000 | H15: =ROUND(G15*$C$32,0) -> 80 | I15: {=_xlfn.IFS(IFERROR(G15/E15,0)<=1000,"A – Escritorio",IFERROR(G15/E15,0)<=3000,"B – Departamental",IFERROR(G15/E15,0)<=10000,"C – Alto volumen",TRUE,"D – Producción")} -> B – Departamental | J15: Láser compacto (mono) 6 GB Ram Mínimo - 256 GB SSD con capacidad de 11*17 | K15: =INDEX($D$36:$D$39,MATCH(I15,$A$36:$A$39,0)) -> 30–40 ppm | L15: =IF(M15="No",INDEX($H$36:$H$39,MATCH(I15,$A$36:$A$39,0)),INDEX($E$36:$E$39,MATCH(I15,$A$36:$A$39,0))) -> Láser monocromático con bandeja ampliada; multifuncional departamental, dúplex | M15: No | N15: =SUM(Direcciones!F47:F51) -> 1
A16: 11 | B16: =Direcciones!D52 -> Dirección Financiera | C16: {=IF(M16="No",0,IFERROR(ROUND($E$32*N16/SUMPRODUCT(($M$5:$M$30<>"No")*$N$5:$N$30),0),0))} -> 0 | D16: =E16-C16 -> 3 | E16: =SUM(Direcciones!F52:G53) -> 3 | F16: =COUNTIF(Direcciones!J52:J53,"Multifuncional") -> 1 | G16: =SUM(Direcciones!H52:H53) -> 2000 | H16: =ROUND(G16*$C$32,0) -> 40 | I16: {=_xlfn.IFS(IFERROR(G16/E16,0)<=1000,"A – Escritorio",IFERROR(G16/E16,0)<=3000,"B – Departamental",IFERROR(G16/E16,0)<=10000,"C – Alto volumen",TRUE,"D – Producción")} -> A – Escritorio | J16: #N/A | K16: =INDEX($D$36:$D$39,MATCH(I16,$A$36:$A$39,0)) -> 20–30 ppm | L16: =IF(M16="No",INDEX($H$36:$H$39,MATCH(I16,$A$36:$A$39,0)),INDEX($E$36:$E$39,MATCH(I16,$A$36:$A$39,0))) -> Láser monocromático compacto; uso personal/escritorio | M16: No | N16: =SUM(Direcciones!F52:F53) -> 1
A17: 12 | B17: =Direcciones!D54 -> Dirección de Contraloría Municipal | C17: {=IF(M17="No",0,IFERROR(ROUND($E$32*N17/SUMPRODUCT(($M$5:$M$30<>"No")*$N$5:$N$30),0),0))} -> 0 | D17: =E17-C17 -> 3 | E17: =SUM(Direcciones!F54:G56) -> 3 | F17: =COUNTIF(Direcciones!J54:J56,"Multifuncional") -> 0 | G17: =SUM(Direcciones!H54:H56) -> 1500 | H17: =ROUND(G17*$C$32,0) -> 30 | I17: {=_xlfn.IFS(IFERROR(G17/E17,0)<=1000,"A – Escritorio",IFERROR(G17/E17,0)<=3000,"B – Departamental",IFERROR(G17/E17,0)<=10000,"C – Alto volumen",TRUE,"D – Producción")} -> A – Escritorio | J17: #N/A | K17: =INDEX($D$36:$D$39,MATCH(I17,$A$36:$A$39,0)) -> 20–30 ppm | L17: =IF(M17="No",INDEX($H$36:$H$39,MATCH(I17,$A$36:$A$39,0)),INDEX($E$36:$E$39,MATCH(I17,$A$36:$A$39,0))) -> Láser monocromático compacto; uso personal/escritorio | M17: No | N17: =SUM(Direcciones!F54:F56) -> 1
A18: 13 | B18: =Direcciones!D57 -> Dirección de Gestión de Calidad | C18: {=IF(M18="No",0,IFERROR(ROUND($E$32*N18/SUMPRODUCT(($M$5:$M$30<>"No")*$N$5:$N$30),0),0))} -> 0 | D18: =E18-C18 -> 3 | E18: =SUM(Direcciones!F57:G58) -> 3 | F18: =COUNTIF(Direcciones!J57:J58,"Multifuncional") -> 0 | G18: =SUM(Direcciones!H57:H58) -> 2000 | H18: =ROUND(G18*$C$32,0) -> 40 | I18: {=_xlfn.IFS(IFERROR(G18/E18,0)<=1000,"A – Escritorio",IFERROR(G18/E18,0)<=3000,"B – Departamental",IFERROR(G18/E18,0)<=10000,"C – Alto volumen",TRUE,"D – Producción")} -> A – Escritorio | J18: #N/A | K18: =INDEX($D$36:$D$39,MATCH(I18,$A$36:$A$39,0)) -> 20–30 ppm | L18: =IF(M18="No",INDEX($H$36:$H$39,MATCH(I18,$A$36:$A$39,0)),INDEX($E$36:$E$39,MATCH(I18,$A$36:$A$39,0))) -> Láser monocromático compacto; uso personal/escritorio | M18: No | N18: =SUM(Direcciones!F57:F58) -> 0
A19: 14 | B19: =Direcciones!D59 -> Dirección de Mantenimiento y Obras Comunitarias | C19: {=IF(M19="No",0,IFERROR(ROUND($E$32*N19/SUMPRODUCT(($M$5:$M$30<>"No")*$N$5:$N$30),0),0))} -> 0 | D19: =E19-C19 -> 3 | E19: =SUM(Direcciones!F59:G60) -> 3 | F19: =COUNTIF(Direcciones!J59:J60,"Multifuncional") -> 0 | G19: =SUM(Direcciones!H59:H60) -> 1000 | H19: =ROUND(G19*$C$32,0) -> 20 | I19: {=_xlfn.IFS(IFERROR(G19/E19,0)<=1000,"A – Escritorio",IFERROR(G19/E19,0)<=3000,"B – Departamental",IFERROR(G19/E19,0)<=10000,"C – Alto volumen",TRUE,"D – Producción")} -> A – Escritorio | J19: #N/A | K19: =INDEX($D$36:$D$39,MATCH(I19,$A$36:$A$39,0)) -> 20–30 ppm | L19: =IF(M19="No",INDEX($H$36:$H$39,MATCH(I19,$A$36:$A$39,0)),INDEX($E$36:$E$39,MATCH(I19,$A$36:$A$39,0))) -> Láser monocromático compacto; uso personal/escritorio | M19: No | N19: =SUM(Direcciones!F59:F60) -> 1
A20: 15 | B20: =Direcciones!D61 -> Dirección de Servicio Social | C20: {=IF(M20="No",0,IFERROR(ROUND($E$32*N20/SUMPRODUCT(($M$5:$M$30<>"No")*$N$5:$N$30),0),0))} -> 0 | D20: =E20-C20 -> 3 | E20: =SUM(Direcciones!F61:G63) -> 3 | F20: =COUNTIF(Direcciones!J61:J63,"Multifuncional") -> 0 | G20: =SUM(Direcciones!H61:H63) -> 1500 | H20: =ROUND(G20*$C$32,0) -> 30 | I20: {=_xlfn.IFS(IFERROR(G20/E20,0)<=1000,"A – Escritorio",IFERROR(G20/E20,0)<=3000,"B – Departamental",IFERROR(G20/E20,0)<=10000,"C – Alto volumen",TRUE,"D – Producción")} -> A – Escritorio | J20: #N/A | K20: =INDEX($D$36:$D$39,MATCH(I20,$A$36:$A$39,0)) -> 20–30 ppm | L20: =IF(M20="No",INDEX($H$36:$H$39,MATCH(I20,$A$36:$A$39,0)),INDEX($E$36:$E$39,MATCH(I20,$A$36:$A$39,0))) -> Láser monocromático compacto; uso personal/escritorio | M20: No | N20: =SUM(Direcciones!F61:F63) -> 2
A21: 16 | B21: =Direcciones!D64 -> Dirección de Tesorería | C21: {=IF(M21="No",0,IFERROR(ROUND($E$32*N21/SUMPRODUCT(($M$5:$M$30<>"No")*$N$5:$N$30),0),0))} -> 0 | D21: =E21-C21 -> 4 | E21: =SUM(Direcciones!F64:G68) -> 4 | F21: =COUNTIF(Direcciones!J64:J68,"Multifuncional") -> 1 | G21: =SUM(Direcciones!H64:H68) -> 7000 | H21: =ROUND(G21*$C$32,0) -> 140 | I21: {=_xlfn.IFS(IFERROR(G21/E21,0)<=1000,"A – Escritorio",IFERROR(G21/E21,0)<=3000,"B – Departamental",IFERROR(G21/E21,0)<=10000,"C – Alto volumen",TRUE,"D – Producción")} -> B – Departamental | J21: Láser compacto (mono) 6 GB Ram Mínimo - 256 GB SSD con capacidad de 11*17 | K21: =INDEX($D$36:$D$39,MATCH(I21,$A$36:$A$39,0)) -> 30–40 ppm | L21: =IF(M21="No",INDEX($H$36:$H$39,MATCH(I21,$A$36:$A$39,0)),INDEX($E$36:$E$39,MATCH(I21,$A$36:$A$39,0))) -> Láser monocromático con bandeja ampliada; multifuncional departamental, dúplex | M21: No | N21: =SUM(Direcciones!F64:F68) -> 1
A22: 17 | B22: =Direcciones!D69 -> Direccion Gestion humana | C22: {=IF(M22="No",0,IFERROR(ROUND($E$32*N22/SUMPRODUCT(($M$5:$M$30<>"No")*$N$5:$N$30),0),0))} -> 0 | D22: =E22-C22 -> 4 | E22: =SUM(Direcciones!F69:G73) -> 4 | F22: =COUNTIF(Direcciones!J69:J73,"Multifuncional") -> 1 | G22: =SUM(Direcciones!H69:H73) -> 6500 | H22: =ROUND(G22*$C$32,0) -> 130 | I22: {=_xlfn.IFS(IFERROR(G22/E22,0)<=1000,"A – Escritorio",IFERROR(G22/E22,0)<=3000,"B – Departamental",IFERROR(G22/E22,0)<=10000,"C – Alto volumen",TRUE,"D – Producción")} -> B – Departamental | J22: Láser compacto (mono) 6 GB Ram Mínimo - 256 GB SSD con capacidad de 11*17 | K22: =INDEX($D$36:$D$39,MATCH(I22,$A$36:$A$39,0)) -> 30–40 ppm | L22: =IF(M22="No",INDEX($H$36:$H$39,MATCH(I22,$A$36:$A$39,0)),INDEX($E$36:$E$39,MATCH(I22,$A$36:$A$39,0))) -> Láser monocromático con bandeja ampliada; multifuncional departamental, dúplex | M22: No | N22: =SUM(Direcciones!F69:F73) -> 1
A23: 18 | B23: =Direcciones!D74 -> Direccion Juridica | C23: {=IF(M23="No",0,IFERROR(ROUND($E$32*N23/SUMPRODUCT(($M$5:$M$30<>"No")*$N$5:$N$30),0),0))} -> 0 | D23: =E23-C23 -> 7 | E23: =SUM(Direcciones!F74:G79) -> 7 | F23: =COUNTIF(Direcciones!J74:J79,"Multifuncional") -> 1 | G23: =SUM(Direcciones!H74:H79) -> 8000 | H23: =ROUND(G23*$C$32,0) -> 160 | I23: {=_xlfn.IFS(IFERROR(G23/E23,0)<=1000,"A – Escritorio",IFERROR(G23/E23,0)<=3000,"B – Departamental",IFERROR(G23/E23,0)<=10000,"C – Alto volumen",TRUE,"D – Producción")} -> B – Departamental | J23: Láser compacto (mono) 6 GB Ram Mínimo - 256 GB SSD con capacidad de 11*17 | K23: =INDEX($D$36:$D$39,MATCH(I23,$A$36:$A$39,0)) -> 30–40 ppm | L23: =IF(M23="No",INDEX($H$36:$H$39,MATCH(I23,$A$36:$A$39,0)),INDEX($E$36:$E$39,MATCH(I23,$A$36:$A$39,0))) -> Láser monocromático con bandeja ampliada; multifuncional departamental, dúplex | M23: No | N23: =SUM(Direcciones!F74:F79) -> 1
A24: 19 | B24: =Direcciones!D80 -> Direccion Planeamiento urbano | C24: {=IF(M24="No",0,IFERROR(ROUND($E$32*N24/SUMPRODUCT(($M$5:$M$30<>"No")*$N$5:$N$30),0),0))} -> 0 | D24: =E24-C24 -> 3 | E24: =SUM(Direcciones!F80:G85) -> 3 | F24: =COUNTIF(Direcciones!J80:J85,"Multifuncional") -> 1 | G24: =SUM(Direcciones!H80:H85) -> 3000 | H24: =ROUND(G24*$C$32,0) -> 60 | I24: {=_xlfn.IFS(IFERROR(G24/E24,0)<=1000,"A – Escritorio",IFERROR(G24/E24,0)<=3000,"B – Departamental",IFERROR(G24/E24,0)<=10000,"C – Alto volumen",TRUE,"D – Producción")} -> A – Escritorio | J24: #N/A | K24: =INDEX($D$36:$D$39,MATCH(I24,$A$36:$A$39,0)) -> 20–30 ppm | L24: =IF(M24="No",INDEX($H$36:$H$39,MATCH(I24,$A$36:$A$39,0)),INDEX($E$36:$E$39,MATCH(I24,$A$36:$A$39,0))) -> Láser monocromático compacto; uso personal/escritorio | M24: No | N24: =SUM(Direcciones!F80:F85) -> 1
A25: 20 | B25: =Direcciones!D86 -> Direccion De Planificacion y desarrolllo institucional | C25: {=IF(M25="No",0,IFERROR(ROUND($E$32*N25/SUMPRODUCT(($M$5:$M$30<>"No")*$N$5:$N$30),0),0))} -> 1 | D25: =E25-C25 -> 1 | E25: =SUM(Direcciones!F86:G87) -> 2 | F25: =COUNTIF(Direcciones!J86:J87,"Multifuncional") -> 1 | G25: =SUM(Direcciones!H86:H87) -> 2000 | H25: =ROUND(G25*$C$32,0) -> 40 | I25: {=_xlfn.IFS(IFERROR(G25/E25,0)<=1000,"A – Escritorio",IFERROR(G25/E25,0)<=3000,"B – Departamental",IFERROR(G25/E25,0)<=10000,"C – Alto volumen",TRUE,"D – Producción")} -> A – Escritorio | J25: #N/A | K25: =INDEX($D$36:$D$39,MATCH(I25,$A$36:$A$39,0)) -> 20–30 ppm | L25: =IF(M25="No",INDEX($H$36:$H$39,MATCH(I25,$A$36:$A$39,0)),INDEX($E$36:$E$39,MATCH(I25,$A$36:$A$39,0))) -> Láser compacto (mono o color); uso personal/escritorio | M25: Sí | N25: =SUM(Direcciones!F86:F87) -> 1
A26: 21 | B26: =Direcciones!D88 -> Direccion de Secretaría General | C26: {=IF(M26="No",0,IFERROR(ROUND($E$32*N26/SUMPRODUCT(($M$5:$M$30<>"No")*$N$5:$N$30),0),0))} -> 0 | D26: =E26-C26 -> 4 | E26: =SUM(Direcciones!F88:G91) -> 4 | F26: =COUNTIF(Direcciones!J88:J91,"Multifuncional") -> 1 | G26: =SUM(Direcciones!H88:H91) -> 3000 | H26: =ROUND(G26*$C$32,0) -> 60 | I26: {=_xlfn.IFS(IFERROR(G26/E26,0)<=1000,"A – Escritorio",IFERROR(G26/E26,0)<=3000,"B – Departamental",IFERROR(G26/E26,0)<=10000,"C – Alto volumen",TRUE,"D – Producción")} -> A – Escritorio | J26: #N/A | K26: =INDEX($D$36:$D$39,MATCH(I26,$A$36:$A$39,0)) -> 20–30 ppm | L26: =IF(M26="No",INDEX($H$36:$H$39,MATCH(I26,$A$36:$A$39,0)),INDEX($E$36:$E$39,MATCH(I26,$A$36:$A$39,0))) -> Láser monocromático compacto; uso personal/escritorio | M26: No | N26: =SUM(Direcciones!F88:F91) -> 0
A27: 22 | B27: =Direcciones!D92 -> Direccion de Transito y movilidad Urbana | C27: {=IF(M27="No",0,IFERROR(ROUND($E$32*N27/SUMPRODUCT(($M$5:$M$30<>"No")*$N$5:$N$30),0),0))} -> 0 | D27: =E27-C27 -> 3 | E27: =SUM(Direcciones!F92:G93) -> 3 | F27: =COUNTIF(Direcciones!J92:J93,"Multifuncional") -> 0 | G27: =SUM(Direcciones!H92:H93) -> 1000 | H27: =ROUND(G27*$C$32,0) -> 20 | I27: {=_xlfn.IFS(IFERROR(G27/E27,0)<=1000,"A – Escritorio",IFERROR(G27/E27,0)<=3000,"B – Departamental",IFERROR(G27/E27,0)<=10000,"C – Alto volumen",TRUE,"D – Producción")} -> A – Escritorio | J27: #N/A | K27: =INDEX($D$36:$D$39,MATCH(I27,$A$36:$A$39,0)) -> 20–30 ppm | L27: =IF(M27="No",INDEX($H$36:$H$39,MATCH(I27,$A$36:$A$39,0)),INDEX($E$36:$E$39,MATCH(I27,$A$36:$A$39,0))) -> Láser monocromático compacto; uso personal/escritorio | M27: No | N27: =SUM(Direcciones!F92:F93) -> 2
A28: 23 | B28: =Direcciones!D94 -> Direccion de Tecnología de la Información | C28: {=IF(M28="No",0,IFERROR(ROUND($E$32*N28/SUMPRODUCT(($M$5:$M$30<>"No")*$N$5:$N$30),0),0))} -> 0 | D28: =E28-C28 -> 5 | E28: =SUM(Direcciones!F94:G97) -> 5 | F28: =COUNTIF(Direcciones!J94:J97,"Multifuncional") -> 1 | G28: =SUM(Direcciones!H94:H97) -> 2000 | H28: =ROUND(G28*$C$32,0) -> 40 | I28: {=_xlfn.IFS(IFERROR(G28/E28,0)<=1000,"A – Escritorio",IFERROR(G28/E28,0)<=3000,"B – Departamental",IFERROR(G28/E28,0)<=10000,"C – Alto volumen",TRUE,"D – Producción")} -> A – Escritorio | J28: #N/A | K28: =INDEX($D$36:$D$39,MATCH(I28,$A$36:$A$39,0)) -> 20–30 ppm | L28: =IF(M28="No",INDEX($H$36:$H$39,MATCH(I28,$A$36:$A$39,0)),INDEX($E$36:$E$39,MATCH(I28,$A$36:$A$39,0))) -> Láser monocromático compacto; uso personal/escritorio | M28: No | N28: =SUM(Direcciones!F94:F97) -> 1
A29: 24 | B29: =Direcciones!D98 -> Direccion de Vice-Alcaldía | C29: {=IF(M29="No",0,IFERROR(ROUND($E$32*N29/SUMPRODUCT(($M$5:$M$30<>"No")*$N$5:$N$30),0),0))} -> 0 | D29: =E29-C29 -> 3 | E29: =SUM(Direcciones!F98:G99) -> 3 | F29: =COUNTIF(Direcciones!J98:J99,"Multifuncional") -> 0 | G29: =SUM(Direcciones!H98:H99) -> 1000 | H29: =ROUND(G29*$C$32,0) -> 20 | I29: {=_xlfn.IFS(IFERROR(G29/E29,0)<=1000,"A – Escritorio",IFERROR(G29/E29,0)<=3000,"B – Departamental",IFERROR(G29/E29,0)<=10000,"C – Alto volumen",TRUE,"D – Producción")} -> A – Escritorio | J29: #N/A | K29: =INDEX($D$36:$D$39,MATCH(I29,$A$36:$A$39,0)) -> 20–30 ppm | L29: =IF(M29="No",INDEX($H$36:$H$39,MATCH(I29,$A$36:$A$39,0)),INDEX($E$36:$E$39,MATCH(I29,$A$36:$A$39,0))) -> Láser monocromático compacto; uso personal/escritorio | M29: No | N29: =SUM(Direcciones!F98:F99) -> 3
A30: 25 | B30: =Direcciones!D100 -> Direccion de Policia Municipal | C30: {=IF(M30="No",0,IFERROR(ROUND($E$32*N30/SUMPRODUCT(($M$5:$M$30<>"No")*$N$5:$N$30),0),0))} -> 0 | D30: =E30-C30 -> 2 | E30: =SUM(Direcciones!F100:G101) -> 2 | F30: =COUNTIF(Direcciones!J100:J101,"Multifuncional") -> 0 | G30: =SUM(Direcciones!H100:H101) -> 750 | H30: =ROUND(G30*$C$32,0) -> 15 | I30: {=_xlfn.IFS(IFERROR(G30/E30,0)<=1000,"A – Escritorio",IFERROR(G30/E30,0)<=3000,"B – Departamental",IFERROR(G30/E30,0)<=10000,"C – Alto volumen",TRUE,"D – Producción")} -> A – Escritorio | J30: #N/A | K30: =INDEX($D$36:$D$39,MATCH(I30,$A$36:$A$39,0)) -> 20–30 ppm | L30: =IF(M30="No",INDEX($H$36:$H$39,MATCH(I30,$A$36:$A$39,0)),INDEX($E$36:$E$39,MATCH(I30,$A$36:$A$39,0))) -> Láser monocromático compacto; uso personal/escritorio | M30: No | N30: =SUM(Direcciones!F100:F101) -> 2
B31: TOTAL GENERAL | C31: =SUM(C5:C30) -> 9 | D31: =SUM(D5:D30) -> 88 | E31: =SUM(E5:E30) -> 97 | F31: =SUM(F5:F30) -> 18 | G31: =SUM(G5:G30) -> 367750 | H31: =ROUND(G31*$C$32,0) -> 7355 | I31: Promedio general | J31: — | K31: — | L31: — | M31: =COUNTIF(M5:M30,"Sí")&" de 25 con color" -> 8 de 25 con color | N31: =SUM(N5:N30) -> 32
A32: Parámetro variable de distribución de color | B32: % vol. estimado a color: | C32: 0.02 | D32: Objetivo: | E32: =ROUND($N$31*C32/0.1,0) -> 6 | F32: Asignado: | G32: =C31 -> 9 | H32: =IF(G32=E32,"✓ Exacto","Dif: "&G32-E32) -> Dif: 3
A34: Referencia técnica y de costo – Categorías de equipo sugeridas
A35: Categoría | B35: Volumen mensual por equipo | C35: Ciclo de trabajo recomendado (pág./mes) | D35: Velocidad | E35: Tecnología / función | F35: Costo de adquisición relativo | G35: Costo por página (TCO) | H35: Características (sin color / monocromático)
A36: A – Escritorio | B36: Hasta 1,000 pág. | C36: Hasta 20,000 | D36: 20–30 ppm | E36: Láser compacto (mono o color); uso personal/escritorio | F36: Bajo | G36: Medio-alto (mayor costo por página a bajo volumen) | H36: Láser monocromático compacto; uso personal/escritorio
A37: B – Departamental | B37: 1,001 – 3,000 pág. | C37: Hasta 50,000 | D37: 30–40 ppm | E37: Láser con bandeja ampliada; multifuncional departamental, dúplex | F37: Medio | G37: Medio | H37: Láser monocromático con bandeja ampliada; multifuncional departamental, dúplex
A38: C – Alto volumen | B38: 3,001 – 10,000 pág. | C38: Hasta 100,000 | D38: 40–55 ppm | E38: Láser robusto; multifuncional de grupo de trabajo, dúplex y red | F38: Medio-alto | G38: Bajo | H38: Láser monocromático robusto; multifuncional de grupo de trabajo, dúplex y red
A39: D – Producción | B39: Más de 10,000 pág. | C39: Más de 150,000 | D39: 55+ ppm | E39: Láser de producción / alto rendimiento; multifuncional con acabado | F39: Alto | G39: Muy bajo (mejor TCO a alto volumen) | H39: Láser monocromático de producción / alto rendimiento; multifuncional con acabado
A41: Nota: El porcentaje de color en C31 es una estimación variable y puede modificarse (por ejemplo, 5%). Al cambiar C31, se recalcula el total estimado a color y el blanco/negro se ajusta como restante, manteniendo fijo el total general de 97 equipos. Las multifuncionales son una sugerencia funcional dentro del total de equipos requeridos; no representan equipos adicionales. La categoría se asigna por el volumen promedio por equipo (volumen total ÷ número de equipos).
A43: Clasificación de impresoras por velocidad (ppm)
A44: Velocidad (ppm) | B44: Categoría | C44: Cantidad de impresoras
...

Sheet Sedes fuera
A3: Dirección de Servicios Públicos
A4: Dirección de Servicios Públicos | B4: Cementerio Nacional
A5: Dirección de Servicios Públicos
A6: Dirección de Servicios Públicos | B6: Mercado villa consuelo
A7: Dirección de Servicios Públicos | B7: Mercado Villa consuelo
A8: Dirección de Servicios Públicos | B8: Cementerio Nacional
A9: Dirección de Servicios Públicos | B9: Cementerio Nacional
A10: Dirección de Servicios Públicos | B10: Cementerio Nacional
A11: Dirección de Servicios Públicos | B11: Mercado de honduras
A12: Dirección de Servicios Públicos | B12: Plaza JOSE MARTIN
A13: Aseo urbano y equipos | B13: Tranferencia
A14: Dirección de Patrimonio Cultural y Centro Histórico
A15: Dirección de Recaudación | B15: Piantini
A16: Dirección de Defensoría y Uso de Espacios Públicos | B16: Despacho Director
A17: Dirección de Defensoría y Uso de Espacios Públicos | B17: Legal
A18: Dirección de Gestión Ambiental | B18: Despacho Director

Sheet Relacion de impresion antigua
B1: Alcaldia del Distrito Nacional
B2: Direccion de Tecnologia de la Informacion
B3: Relacion de Impresoras Palacio Municipal
B4: Direccion | C4: Departamento | D4: Modelo Impresora | E4: Tipo | F4: Volumen de Impresión B/N | G4: Volumen de Impresión Color | H4: Estatus | I4: Inventario
A5: 1 | B5: Administrativo | C5: Planta Fisica | D5: RICOH MP2554 | E5: Blanco y Negro | F5: 500 | H5: A | I5: Alquilada
A6: 2 | B6: Administrativo | C6: Compras | D6: Ricoh Mp2554 | E6: Blanco y Negro | F6: 7500 | H6: A | I6: Alquilada
A7: 3 | B7: Administrativo | C7: Archivo y Correspondencia | D7: HP LaserJet P4015n | E7: Blanco y Negro | F7: 1500 | H7: A | I7: ADN0310449
A8: 4 | B8: Administrativo | C8: Control De Bienes | D8: HP LaserJet 1020 | E8: Blanco y Negro | F8: 500 | H8: A | I8: ADN141167717
A9: 5 | B9: Administrativo | C9: Almacen y Suministro | D9: Ricoh Mp305 | E9: Blanco y Negro | F9: 2500 | H9: A | I9: Alquilada
A10: 6 | B10: Aseo urbano | C10: Aseo urbano | D10: EPSON | E10: Blanco y Negro | F10: 2000 | H10: A | I10: ADN1496521770
A11: 7 | B11: Aseo urbano | C11: Aseo urbano | D11: HP | E11: Blanco y Negro | F11: 2000 | H11: A | I11: ADN1496516203
A12: 8 | B12: Auditoria | C12: Auditoria | D12: Ricoh Mp 301 | E12: Blanco y Negro | F12: 1500 | H12: A | I12: Alquilada
A13: 9 | B13: Auditoria | C13: Auditoria | D13: HP LaserJet P1606dn | E13: Blanco y Negro | F13: 1500 | H13: A | I13: ADN2396514304
A14: 10 | B14: Auditoria | C14: Auditoria | D14: Color LaserJet Pro MFP 4303dw | E14: Color | F14: 0 | G14: 600 | H14: A | I14: N/A
A15: 11 | B15: Consejo Municipal | C15: Cooperativa | D15: HP M127fn | E15: Blanco y Negro | F15: 500 | H15: A | I15: N/A
A16: 12 | B16: Consejo Municipal | C16: Archivo | D16: Ricoh Mp2554 | E16: Blanco y Negro | F16: 3500 | H16: A | I16: Alquilada
A17: 13 | B17: Consejo Municipal | C17: Bloque PRM | D17: Hp LaserJet P2035 | E17: Blanco y Negro | F17: 500 | H17: A | I17: ADN149458
A18: 14 | B18: Consejo Municipal | C18: Bloque PLD | D18: HP LaserJet P1102w | E18: Blanco y Negro | F18: 500 | H18: A | I18: N/A
A19: 15 | B19: Consejo Municipal | C19: Bloque FRP | D19: HP LaserJet M132 MFP | E19: Blanco y Negro | F19: 500 | H19: A | I19: ADN0310567
A20: 16 | B20: Consejo Municipal | C20: Vice Presidencia | D20: HP LaserJet 1020 | E20: Blanco y Negro | F20: 500 | H20: A | I20: ADN1161798
A21: 17 | B21: Consejo Municipal | C21: Presidencia | D21: HP LaserJet PRO MFP M521dn | E21: Blanco y Negro | F21: 500 | H21: A | I21: ADN1411616227
A22: 18 | B22: Consejo Municipal | C22: Administrativo | D22: HP LaserJet PRO MFP M521dn | E22: Blanco y Negro | F22: 1500 | H22: A | I22: ADN1411616226
A23: 19 | B23: Consejo Municipal | C23: Contraloria | D23: Hp LaserJet P1606 | E23: Blanco y Negro | F23: 500 | H23: A | I23: ADN2396514307
A24: 20 | B24: Desarrollo Comunitario | C24: Desarrollo Comunitario | D24: Ricoh Mp 305 | E24: Blanco y Negro | F24: 1000 | H24: A | I24: Alquilada
A25: 21 | B25: Despacho | C25: Despacho | D25: Ricoh Mp406+ | E25: Color | F25: 0 | G25: 400 | H25: A | I25: Alquilada
A26: 22 | B26: Despacho | C26: Despacho | D26: Ricoh Mp301 | E26: Blanco y Negro | F26: 1000 | H26: A | I26: Alquilada
A27: 23 | B27: Financiero | C27: Financiero | D27: HP LaserJet P1606dn | E27: Blanco y Negro | F27: 1000 | H27: A | I27: ADN2396514290
A28: 24 | B28: Financiero | C28: Financiero | D28: HP Color LaserJet M277dw | E28: Color | F28: 0 | G28: 350 | H28: A | I28: ADN1426016231
A29: 25 | B29: Gestion de calidad | C29: Gestion de calidad | D29: HP | E29: Blanco y Negro | F29: 500 | H29: A | I29: ADN2311617970
A30: 26 | B30: Gestion de calidad | C30: Gestion de calidad | D30: EPSON* | E30: Blanco y Negro | F30: 1000 | H30: I | I30: ADN2396514305
A31: 27 | B31: Gestion de calidad | C31: Gestion de calidad | D31: HP | E31: Blanco y Negro | F31: 1500 | H31: A | I31: ADN1418248
A32: 28 | B32: Gestion de calidad | C32: Gestion de calidad | D32: HP | E32: Blanco y Negro | F32: 2000 | H32: A | I32: ADN1413006
A33: 29 | B33: Gestion Humana | C33: Seguridad Social | D33: Ricoh Mp | E33: Blanco y Negro | F33: 1000 | H33: A | I33: Alquilada
A34: 30 | B34: Gestion Humana | C34: Gestion Humana | D34: Ricoh Mp 2554 | E34: Blanco y Negro | F34: 4500 | H34: A | I34: Alquilada
A35: 31 | B35: Gestion Humana | C35: Reclutamiento | D35: HP LaserJet Pro MFP M127fn | E35: Blanco y Negro | F35: 500 | H35: A | I35: *1436*
A36: 32 | B36: Infraestructura | C36: Infraestructura | D36: HP LaserJet M277DW | E36: Color | F36: 0 | G36: 250 | H36: A | I36: ADN1458818070
A37: 33 | B37: Infraestructura | C37: Infraestructura | D37: Ricoh Mp2554 | E37: Blanco y Negro | F37: 2500 | H37: A | I37: Alquilada
A38: 34 | B38: Juridica | C38: Inmobiliaria | D38: HP LaserJet P1505n | E38: Blanco y Negro | F38: 0 | H38: I | I38: ADN141169188
A39: 35 | B39: Juridica | C39: Inmobiliaria | D39: Brother MFC-L590 | E39: Blanco y Negro | F39: 500 | H39: A | I39: ADN1426018069
A40: 36 | B40: Juridica | C40: Inmobiliaria | D40: HP LaserJet 1020 | E40: Blanco y Negro | F40: 500 | H40: A | I40: ADN141165117
...

Sheet Grafico
A3: Marca | B3: Cuenta de Marca
A4: BEMATECH | B4: 9
A5: BENQ | B5: 1
A6: BIXOLON | B6: 6
A7: BROTHER | B7: 3
A8: CANON | B8: 14
A9: datacard | B9: 1
A10: DELL | B10: 3
A11: EPSON | B11: 43
A12: FUJITSU | B12: 9
A13: HEDMAN | B13: 1
A14: HONEYWELL | B14: 4
A15: HP | B15: 316
... A29: ZEBRA | B29: 20

Sheet  Grafico(2)
A3: color de impresión | B3: Cuenta de color de impresión
A4: a color | B4: 23
A5: Blanco y negro | B5: 488

Sheet Datos transformados
B2: INFORMACIÓN IMPORTANTE
B3: Ha insertado una recomendación que utiliza una tabla dinámica.
B4: Las tablas dinámicas funcionan mejor cuando los datos están organizados en columnas y tienen una sola fila de encabezado, así que eso es lo que hemos hecho a continuación.
C6: Campo1 | D6: Campo2 | E6: Campo3 | F6: Campo4 | G6: Campo5 | H6: Campo6 | I6: Campo7 | J6: Campo8 | K6: Campo9 | L6: Campo10 | M6: Campo11 | N6: Campo12 | O6: Campo13 | P6: Campo14 | Q6: Campo15 | R6: Campo16 | S6: Campo17 | T6: Campo18
C7: item | D7: codigo de inventario | E7: Descripcion del Equipo | F7: Marca | G7: Modelo | H7: conexión | I7: Tipo | J7: Mecanismo de impresión | K7: color de impresión | L7: Localidad | M7: Direccion | N7: Departamento | O7: Nombre de usuario | P7: Piso | Q7: Estado | R7: Condicion | S7: Propietario | T7: Observacion
C8: 1 | D8: ADN1411618063 | E8: IMPRESORA LASER JET MFP M22 FDW | F8: HP | G8: M227FDW | H8: RED | I8: Impresora | J8: Laser | K8: Blanco y negro | L8: Palacio Municipal | M8: Despacho del Alcalde (sa) | O8: ROSA CAROLINA MEJIA GOMEZ | P8: 4to | Q8: en uso | S8: ADN | T8: ok
C9: 2 | D9: ADN1496515339 | E9: IMPRESORA HP DESINGNJET T120-24 NEGRA BASE MOVIBLE DE PLANOS (PLOTER) | F9: HP | G9: T120 | I9: Impresora | K9: Blanco y negro | L9: Palacio Municipal | M9: Secretaría General | N9: Transito y movilidad Urbana | O9: Dario dominguez | P9: 4to | Q9: en uso | S9: ADN | T9: ok
C10: 3 | D10: ADN141166567 | E10: IMPRESORA LASER, MARCA HP, MOD. P1005, | F10: HP | G10: P1005 | I10: Impresora | K10: Blanco y negro | L10: Palacio Municipal | M10: Dirección de Recaudación | O10: YOLANDA BERTILIA DE LA ROSA FERNANDEZ | P10: 1er | Q10: Perdida | S10: ADN | T10: no encontrada
C11: 4 | D11: ADN149466 | E11: IMPRESORA LASER, A COLOR, EPSON, STUDIO T22, NEGRO | F11: EPSON | G11: STUDIO T22 | I11: Impresora | K11: Blanco y negro | L11: Palacio Municipal | M11: Control de Bienes | O11: Josefa Guerrero | P11: 1er | Q11: Descargada | R11: Desacargada | S11: ADN | T11: estan descargadas a control de bienes
C12: 5 | D12: ADN1414929 | E12: IMPRESORA HP LASERJET MOD.506DN, CREMA (BID) | F12: HP | G12: LASERJET MOD.506DN | H12: RED | I12: Impresora | J12: Laser | K12: Blanco y negro | L12: Palacio Municipal | M12: Planificacion y desarrolllo institucional | O12: alexia denisse infante | P12: 5to | Q12: en uso | S12: ADN | T12: ok
C13: 6 | D13: ADN031074277 | E13: IMPRESORA MULTIFUNCION, LEXMARK, MODELO X-83, COLOR CREMA | F13: LEXMARK | G13: X-83 | I13: Impresora | K13: Blanco y negro | L13: Palacio Municipal | M13: Control de Bienes | O13: Josefa Guerrero | P13: 1er | Q13: Descargada | R13: Desacargada | S13: ADN | T13: estan descargadas a control de bienes
C14: 7 | D14: ADN0311585 | E14: IMPRESORA,MARCA ZEBRA,PARA CODIGO DE BARRA | F14: ZEBRA | G14: ZD410 | I14: Impresora | K14: Blanco y negro | L14: Palacio Municipal | M14: Control de Bienes | O14: Josefa Guerrero | P14: 1er | Q14: Descargada | R14: Desacargada | S14: ADN | T14: estan descargadas a control de bienes
C15: 8 | D15: ADN0311586 | E15: IMPRESORA,MARCA ZEBRA,PARA CODIGO DE BARRA | F15: ZEBRA | G15: ZD410 | I15: Impresora | K15: Blanco y negro | L15: Palacio Municipal | M15: Control de Bienes | O15: Josefa Guerrero | P15: 1er | Q15: Descargada | R15: Desacargada | S15: ADN | T15: estan descargadas a control de bienes
C16: 9 | D16: ADN0311587 | E16: IMPRESORA,MARCA ZEBRA,PARA CODIGO DE BARRA | F16: ZEBRA | G16: ZD410 | I16: Impresora | K16: Blanco y negro | L16: Palacio Municipal | M16: Control de Bienes | O16: Josefa Guerrero | P16: 1er | Q16: Descargada | R16: Desacargada | S16: ADN | T16: estan descargadas a control de bienes
C17: 10 | D17: ADN03116848 | E17: IMPRESORA MULTIFUNCIONAL HP, DESTJET 1515 AIO.BLANCA | F17: HP | G17: 1515 AIO | I17: Impresora | K17: a color | L17: Palacio Municipal | M17: Control de Bienes | O17: Josefa Guerrero | P17: 1er | Q17: Descargada | R17: Desacargada | S17: ADN | T17: estan descargadas a control de bienes
C18: 11 | D18: ADN031172501 | E18: IMPRESORA DE INYECCION, HP, MODELO 920C, COLOR CREMA | F18: HP | G18: 920C | I18: Impresora | K18: Blanco y negro | L18: Palacio Municipal | M18: Control de Bienes | O18: Josefa Guerrero | P18: 1er | Q18: Descargada | R18: Desacargada | S18: ADN | T18: estan descargadas a control de bienes
C19: 12 | D19: ADN0312865 | E19: IMPRESORA HP MOD-1000, COLOR CREMA | F19: HP | G19: 1000 | I19: Impresora | K19: Blanco y negro | L19: Palacio Municipal | M19: Control de Bienes | O19: Josefa Guerrero | P19: 1er | Q19: Descargada | R19: Desacargada | S19: ADN | T19: estan descargadas a control de bienes
C20: 13 | D20: ADN032609081 | E20: IMPRESORA MULTIFUNCION, HP, MOD. CM-232NF, COLOR BLANCO | F20: HP | G20: CM232NF | I20: Impresora | K20: Blanco y negro | L20: Palacio Municipal | M20: Control de Bienes | O20: Josefa Guerrero | P20: 1er | Q20: Descargada | R20: Desacargada | S20: ADN | T20: estan descargadas a control de bienes
C21: 14 | D21: ADN039983 | E21: IMPRESORA,MULTIFUNCIONAL,MARCA LEXMARK,MOD GENESIS S815 | F21: LEXMARK | G21: GENESIS S815 | I21: Impresora | K21: Blanco y negro | L21: Palacio Municipal | M21: Control de Bienes | O21: Josefa Guerrero | P21: 1er | Q21: Descargada | R21: Desacargada | S21: ADN | T21: estan descargadas a control de bienes
C22: 15 | D22: ADN1410741 | E22: IMPRESORA HP,MOD-LASER JETS P1005, GRIS | F22: HP | G22: P1005 | I22: Impresora | K22: Blanco y negro | L22: Palacio Municipal | M22: Control de Bienes | O22: Josefa Guerrero | P22: 1er | Q22: Descargada | R22: Desacargada | S22: ADN | T22: estan descargadas a control de bienes
C23: 16 | D23: ADN1410788 | E23: IMPRESORA,MARCA HP,MOD OFICCE JET,COLOR NEGRO | F23: HP | G23: NO DEFINIDO | I23: Impresora | K23: Blanco y negro | L23: Palacio Municipal | M23: Control de Bienes | O23: Josefa Guerrero | P23: 1er | Q23: Descargada | R23: Desacargada | S23: ADN | T23: estan descargadas a control de bienes
C24: 17 | D24: ADN1410976 | E24: IMPRESORA,MARCA CANNON,MOD LBP3200,BLANCO | F24: CANON | G24: LBP3200 | I24: Impresora | K24: Blanco y negro | L24: Palacio Municipal | M24: Control de Bienes | O24: Josefa Guerrero | P24: 1er | Q24: Descargada | R24: Desacargada | S24: ADN | T24: estan descargadas a control de bienes
C25: 18 | D25: ADN1410978 | E25: IMPRESORA,MARCA LEXMARK,MOD E120,COLOR NEGRO | F25: LEXMARK | G25: E-120 | I25: Impresora | K25: Blanco y negro | L25: Palacio Municipal | M25: Control de Bienes | O25: Josefa Guerrero | P25: 1er | Q25: Descargada | R25: Desacargada | S25: ADN | T25: estan descargadas a control de bienes
C26: 19 | D26: ADN1411047 | E26: IMPRESORA DESK JET,MARCA HP,MOD D3747 | F26: HP | G26: D3747 | I26: Impresora | K26: Blanco y negro | L26: Palacio Municipal | M26: Control de Bienes | O26: Josefa Guerrero | P26: 1er | Q26: Descargada | R26: Desacargada | S26: ADN | T26: estan descargadas a control de bienes
C27: 20 | D27: ADN1411048 | E27: IMPRESORA DESK JET,MOD D1560,MARCA HP | F27: HP | G27: D1560 | I27: Impresora | K27: Blanco y negro | L27: Palacio Municipal | M27: Control de Bienes | O27: Josefa Guerrero | P27: 1er | Q27: Descargada | R27: Desacargada | S27: ADN | T27: estan descargadas a control de bienes
C28: 21 | D28: ADN1411061 | E28: IMPRESORA,MARCA HP,MOD P1005,COLOR CREMA | F28: HP | G28: P1005 | I28: Impresora | K28: Blanco y negro | L28: Externo | M28: Cementerio Cristo Rey | O28: JOSE POLANCO | Q28: Por Verificar | S28: ADN | T28: No encontrada
C29: 22 | D29: ADN141161028 | E29: IMPRESORA LASER, HP, MODELO 1320, CREMA | F29: HP | G29: 1320 | I29: Impresora | K29: Blanco y negro | L29: Palacio Municipal | M29: Control de Bienes | O29: Josefa Guerrero | P29: 1er | Q29: Descargada | R29: Desacargada | S29: ADN | T29: estan descargadas a control de bienes
C30: 23 | D30: ADN141161351 | E30: IMPRESORA LASER, HP, MODELO 1015, GRIS | F30: HP | G30: 1015 | I30: Impresora | K30: Blanco y negro | L30: Palacio Municipal | M30: Control de Bienes | O30: Josefa Guerrero | P30: 1er | Q30: Descargada | R30: Desacargada | S30: ADN | T30: estan descargadas a control de bienes
C31: 24 | D31: ADN141161365 | E31: IMPRESORA MATRICIAL EPSON COLOR GRIS | F31: EPSON | G31: FX890 | H31: USB | I31: Impresora | J31: Matricial | K31: Blanco y negro | L31: Palacio Municipal | M31: Dirección de Tesorería | O31: Jose antonio Henrique Risk | P31: 1er | Q31: en uso | S31: ADN | T31: ok
C32: 25 | D32: ADN141161458 | E32: IMPRESORA LASER, HP, MODELO 1015, COLOR GRIS | F32: HP | G32: 1015 | I32: Impresora | K32: Blanco y negro | L32: Palacio Municipal | M32: Control de Bienes | O32: Josefa Guerrero | P32: 1er | Q32: Descargada | R32: Desacargada | S32: ADN | T32: estan descargadas a control de bienes
C33: 26 | D33: ADN141161505 | E33: IMPRESORA LASER, MARCA LEXMARK, GRIS | F33: LEXMARK | G33: NO DEFINIDO | I33: Impresora | K33: Blanco y negro | L33: Palacio Municipal | M33: Control de Bienes | O33: Josefa Guerrero | P33: 1er | Q33: Descargada | R33: Desacargada | S33: ADN | T33: estan descargadas a control de bienes
C34: 27 | D34: ADN141161517 | E34: IMPRESORA HP, MOD. 1660, NEGRO | F34: HP | G34: 1660 | I34: Impresora | K34: Blanco y negro | L34: Palacio Municipal | M34: Control de Bienes | O34: Josefa Guerrero | P34: 1er | Q34: Descargada | R34: Desacargada | S34: ADN | T34: estan descargadas a control de bienes
C35: 28 | D35: ADN141161591 | E35: IMPRESORA LASER, LEXMARK, MODELO E230, NEGRO | F35: LEXMARK | G35: E230 | I35: Impresora | K35: Blanco y negro | L35: Palacio Municipal | M35: Control de Bienes | O35: Josefa Guerrero | P35: 1er | Q35: Descargada | R35: Desacargada | S35: ADN | T35: estan descargadas a control de bienes
C36: 29 | D36: ADN141161603 | E36: IMPRESORA LASER, LEXMARK, MODELO E340, NEGRO | F36: LEXMARK | G36: E-340 | I36: Impresora | K36: Blanco y negro | L36: Palacio Municipal | M36: Control de Bienes | O36: Josefa Guerrero | P36: 1er | Q36: Descargada | R36: Desacargada | S36: ADN | T36: estan descargadas a control de bienes
C37: 30 | D37: ADN1411616215 | E37: IMPRESORA HP MOD.M277DW COL.BLANCO | F37: HP | G37: M277DW | H37: RED | I37: Impresora | J37: Laser | K37: Blanco y negro | L37: Palacio Municipal | M37: Dirección de Servicio Social | O37: DIGNA REYNOSO | P37: 1er | Q37: en uso | S37: ADN | T37: ok
C38: 31 | D38: ADN1411616242 | E38: IMPRESORA HP LASERJET P1102W COL.NEGRO | F38: HP | G38: LASERJET P1102W | I38: Impresora | K38: Blanco y negro | L38: Externo | M38: Dirección de Defensoría y Uso de Espacios Públicos | O38: ADRIAN RAFAEL JIMENEZ GARRIDO | Q38: Por Verificar | S38: ADN | T38: No encontrada
C39: 32 | D39: ADN141161680 | E39: IMPRESORA LASER, HP, MODELO 1100, CREMA | F39: HP | G39: 1100 | I39: Impresora | K39: Blanco y negro | L39: Palacio Municipal | M39: Control de Bienes | O39: Josefa Guerrero | P39: 1er | Q39: Descargada | R39: Desacargada | S39: ADN | T39: estan descargadas a control de bienes
C40: 33 | D40: ADN141161791 | E40: IMPRESORA LASER, HP, MODELO 1020, COLOR GRIS | F40: HP | G40: 1020 | I40: Impresora | K40: Blanco y negro | L40: Palacio Municipal | M40: Dirección Jurídica | O40: RICARDO AYANES PEREZ NUÑEZ | Q40: Perdida | S40: ADN | T40: no encontrada
C41: 34 | D41: ADN1411617985 | E41: IMPRESORA LASER JET PRO MFP M 227 BLANCO | F41: HP | G41: M227FDW | I41: Impresora | K41: Blanco y negro | L41: Palacio Municipal | M41: Dirección de Servicio Social | O41: DIGNA REYNOSO | Q41: Perdida | S41: ADN | T41: no encontrada
C42: 35 | D42: ADN1411617986 | E42: IMPRESORA LASER JET PRO M227 BLANCO | F42: HP | G42: M227FDW | I42: Impresora | K42: Blanco y negro | L42: Palacio Municipal | M42: Dirección de Servicio Social | O42: DIGNA REYNOSO | Q42: Perdida | S42: ADN | T42: no encontrada
...
